BEGIN:VCALENDAR
VERSION:2.0
PRODID:-//ChamberMaster//Event Calendar 2.0//EN
METHOD:PUBLISH
X-PUBLISHED-TTL:P3D
REFRESH-INTERVAL:P3D
CALSCALE:GREGORIAN
BEGIN:VEVENT
DTSTART:20201007T233000Z
DTEND:20201008T003000Z
X-MICROSOFT-CDO-ALLDAYEVENT:FALSE
SUMMARY:Free Health Talk-Immune Resilience
DESCRIPTION:Take a deeper dive into understanding your support system (Immune System) during times of stress. Get the tools to support immunity on all levels\, address and overcome fear and redefine resilience on all levels.
X-ALT-DESC;FMTTYPE=text/html:Take a deeper dive into understanding your support system (Immune System) during times of stress. Get the tools to support immunity on all levels\, address and overcome fear and redefine resilience on all levels.&nbsp\;
LOCATION:2255 Kimberly Road\, Bettendorf\, IA 52722
UID:e.2843.18182
SEQUENCE:3
DTSTAMP:20260421T111418Z
URL:https://member.quadcitieschamber.com/events/details/free-health-talk-immune-resilience-18182
END:VEVENT

END:VCALENDAR
