BEGIN:VCALENDAR
VERSION:2.0
PRODID:-//ChamberMaster//Event Calendar 2.0//EN
METHOD:PUBLISH
X-PUBLISHED-TTL:P3D
REFRESH-INTERVAL:P3D
CALSCALE:GREGORIAN
BEGIN:VEVENT
DTSTART:20181011T000000Z
DTEND:20181011T013000Z
X-MICROSOFT-CDO-ALLDAYEVENT:FALSE
SUMMARY:Free Lecture: A Natural\, Cost-Free Way to Attain Help and Healing through the Teachings of Bruno Groening
DESCRIPTION:Bruno Groening taught about a natural power\, which he called the healing stream\, that can heal the body\, help with life issues\, bring peace\, happiness and inner freedom. It is available to all people\, irrespective of nationality\, faith or religion. Many experience the healing stream during the lecture. Speaker: Brigitte Schneider\, Licensed Healing Practitioner\, Germany
X-ALT-DESC;FMTTYPE=text/html:Bruno Groening taught about a natural power\, which he called the healing stream\, that can heal the body\, help with life issues\, bring peace\, happiness and inner freedom. It is available to all people\, irrespective of nationality\, faith or religion. Many experience the healing stream during the lecture. Speaker: Brigitte Schneider\, Licensed Healing Practitioner\, Germany
LOCATION:German American Heritage Center 712 West 2nd Street Davenport\, IA
UID:e.2843.13479
SEQUENCE:3
DTSTAMP:20260423T030444Z
URL:https://member.quadcitieschamber.com/events/details/free-lecture-a-natural-cost-free-way-to-attain-help-and-healing-through-the-teachings-of-bruno-groening-13479
END:VEVENT

END:VCALENDAR
