BEGIN:VCALENDAR
VERSION:2.0
PRODID:-//ChamberMaster//Event Calendar 2.0//EN
METHOD:PUBLISH
X-PUBLISHED-TTL:P3D
REFRESH-INTERVAL:P3D
CALSCALE:GREGORIAN
BEGIN:VEVENT
DTSTART:20180330T143000Z
DTEND:20180330T153000Z
X-MICROSOFT-CDO-ALLDAYEVENT:FALSE
SUMMARY:FREE Market Research to grow your Business
DESCRIPTION:CLASS IS CANCELED\, PLEASE REGISTER FOR ANOTHER ONE.
X-ALT-DESC;FMTTYPE=text/html:<br />\n<span style="font-size:16px\;"><span style="font-family:arial\;"><strong><span style="color:#FF0000\;">CLASS IS CANCELED\, PLEASE REGISTER FOR ANOTHER ONE.</span></strong></span></span><br />\n<br />\n&nbsp\;
LOCATION:331 W. 3rd Street. Davenport IA PLEASE REGISTER DUE TO SPACE
UID:e.2843.10035
SEQUENCE:3
DTSTAMP:20260423T143440Z
URL:https://member.quadcitieschamber.com/events/details/free-market-research-to-grow-your-business-10035
END:VEVENT

END:VCALENDAR
