BEGIN:VCALENDAR
VERSION:2.0
PRODID:-//ChamberMaster//Event Calendar 2.0//EN
METHOD:PUBLISH
X-PUBLISHED-TTL:P3D
REFRESH-INTERVAL:P3D
CALSCALE:GREGORIAN
BEGIN:VEVENT
DTSTART:20180223T153000Z
DTEND:20180223T163000Z
X-MICROSOFT-CDO-ALLDAYEVENT:FALSE
SUMMARY:FREE Market Research to grow your Business
DESCRIPTION:The Quad Cities Chamber\, in partnership with Eastern Iowa Community Colleges\, offers access to FREE market research tools to help grow your business.\n\n\n\nIf you want a deeper dive into market research on the Quad Cities region and beyond\, come into the Chamber to access B.I.G.\n\n\n\nB.I.G is a collection of high-powered market research databases\, including Acculeads\, Hoovers Plus\, LoopNet\, Panjiva\, Plunkett Research\, and Reference USA\, that gives you access to proprietary business information\, global trade data\, consumer demographics\, and more.\n\n\n	 Create mailing lists that match your customer demographics\n	 Research a company before your sales call\n	 Analyze industry trends\n	 Identify new growth markets\n\nSizeUp is the Chamber's user-friendly online local market research tool that is accessible to anyone\, anywhere there's Internet access. You will also learn how to use this tool.\n\n\n\nSizeUp is a custom-developed local business intelligence tool powered by a unique set of real-time databases\, compiled to give you the information you need about local market conditions.\n\n\n	 Perform business and industry analysis to gauge how much of your competition you are outperforming\n	 Create geo-visual lists of your competitors\, potential buyers\, and vendors\n	 Assess local market conditions and find the best places to advertise\n	 Interactively map demographic\, labor force\, and consumer expenditure data for the region\n\nTo access SizeUp\, visit www.quadcitieschamber.com/sizeup.
X-ALT-DESC;FMTTYPE=text/html:<span style="font-size:16px\;"><span style="font-family:arial\;">The Quad Cities Chamber\, in partnership with Eastern Iowa Community Colleges\, offers access to FREE market research tools to help grow your business.</span></span><br />\n<br />\n<span style="font-size:16px\;"><span style="font-family:arial\;"><strong>If you want a deeper dive into market research on the Quad Cities region and beyond\, come into the Chamber to access B.I.G.</strong><br />\n<br />\nB.I.G is a collection of high-powered market research databases\, including Acculeads\, Hoovers Plus\, LoopNet\, Panjiva\, Plunkett Research\, and Reference USA\, that gives you access to proprietary business information\, global trade data\, consumer demographics\, and more.</span></span>\n\n<ul>\n	<li><span style="font-size:16px\;"><span style="font-family:arial\;">&nbsp\;Create mailing lists that match your customer demographics</span></span></li>\n	<li><span style="font-size:16px\;"><span style="font-family:arial\;">&nbsp\;Research a company before your sales call</span></span></li>\n	<li><span style="font-size:16px\;"><span style="font-family:arial\;">&nbsp\;Analyze industry trends</span></span></li>\n	<li><span style="font-size:16px\;"><span style="font-family:arial\;"><span style="font-size:16px\;"><span style="font-family:arial\;">&nbsp\;Identify new growth markets</span></span></span></span></li>\n</ul>\n<span style="color: rgb(51\, 51\, 51)\; font-family: sans-serif\, Arial\, Verdana\, &quot\;Trebuchet MS&quot\;\; font-size: 16px\;"><span style="font-family: arial\;"><strong>SizeUp&nbsp\;is the Chamber&#39\;s user-friendly online local market research tool that is accessible to anyone\, anywhere there&#39\;s Internet access. You will also learn how to use this tool.</strong><br />\n<br />\nSizeUp&nbsp\;is a custom-developed local business intelligence tool powered by a unique set of real-time databases\, compiled to give you the information you need about local market conditions.</span></span>\n\n<ul style="padding: 0px 40px\; color: rgb(51\, 51\, 51)\; font-family: sans-serif\, Arial\, Verdana\, &quot\;Trebuchet MS&quot\;\; font-size: 13px\;">\n	<li><span style="font-size: 16px\;"><span style="font-family: arial\;">&nbsp\;Perform business and industry analysis to gauge how much of your competition you are outperforming</span></span></li>\n	<li><span style="font-size: 16px\;"><span style="font-family: arial\;">&nbsp\;Create geo-visual lists of your competitors\, potential buyers\, and vendors</span></span></li>\n	<li><span style="font-size: 16px\;"><span style="font-family: arial\;">&nbsp\;Assess local market conditions and find the best places to advertise</span></span></li>\n	<li><span style="font-size: 16px\;"><span style="font-family: arial\;">&nbsp\;Interactively map demographic\, labor force\, and consumer expenditure data for the region</span></span></li>\n</ul>\n<span style="color: rgb(51\, 51\, 51)\; font-family: sans-serif\, Arial\, Verdana\, &quot\;Trebuchet MS&quot\;\; font-size: 16px\;"><span style="font-family: arial\;">To access&nbsp\;SizeUp\, visit&nbsp\;<a href="http://quadcitieschamber.com/locate-start-grow/grow/market-research-databases" style="color: rgb(7\, 130\, 193)\;"><u>www.quadcitieschamber.com/sizeup.</u></a></span></span>
LOCATION:331 W. 3rd Street. Davenport IA PLEASE REGISTER DUE TO SPACE
UID:e.2843.8894
SEQUENCE:3
DTSTAMP:20260423T153826Z
URL:https://member.quadcitieschamber.com/events/details/free-market-research-to-grow-your-business-8894
END:VEVENT

END:VCALENDAR
