BEGIN:VCALENDAR
VERSION:2.0
PRODID:-//ChamberMaster//Event Calendar 2.0//EN
METHOD:PUBLISH
X-PUBLISHED-TTL:P3D
REFRESH-INTERVAL:P3D
CALSCALE:GREGORIAN
BEGIN:VEVENT
DTSTART:20210316T170000Z
DTEND:20210316T180000Z
X-MICROSOFT-CDO-ALLDAYEVENT:FALSE
SUMMARY:Free Virtual Seminar: Power of Positive Leadership
DESCRIPTION:Join us virtually on Tuesday\, March 16 from 12-1 pm for our next Young Professionals Lunch & Learn! Join Jan Gorman\, Adjunct Instructor at the University of Iowa\, to learn about the power of positive leadership. This free event is sponsored by the Jaycees of the Quad Cities. All registered and attending participants will receive a $10 gift card to a local restaurant for lunch!
X-ALT-DESC;FMTTYPE=text/html:Join us virtually on Tuesday\, March 16&nbsp\;from 12-1 pm for our next Young Professionals Lunch &amp\; Learn! Join Jan Gorman\, Adjunct Instructor at the University of Iowa\, to learn about the power of positive leadership.&nbsp\;This free event is sponsored by the Jaycees of the Quad Cities. All registered and attending participants will receive a $10 gift card to a local restaurant for lunch!
LOCATION:Virtual link to Zoom will be sent before the event.
UID:e.2843.18757
SEQUENCE:3
DTSTAMP:20260421T051142Z
URL:https://member.quadcitieschamber.com/events/details/free-virtual-seminar-power-of-positive-leadership-18757
END:VEVENT

END:VCALENDAR
