BEGIN:VCALENDAR
VERSION:2.0
PRODID:-//ChamberMaster//Event Calendar 2.0//EN
METHOD:PUBLISH
X-PUBLISHED-TTL:P3D
REFRESH-INTERVAL:P3D
CALSCALE:GREGORIAN
BEGIN:VEVENT
DTSTART:20120428T153000Z
DTEND:20120428T160000Z
X-MICROSOFT-CDO-ALLDAYEVENT:FALSE
SUMMARY:Freight House Grand Opening
DESCRIPTION:The two new businesses\, Fresh Deli and Front Street Brewery\, in conjunction with the LIC/City of Davenport plan to officially open in the Freight House on Saturday\, April 28th at 10:30am.  There will be a brief program\, with comments from the Mayor and businesses\, music and an open house.
X-ALT-DESC;FMTTYPE=text/html:<DIV style="FONT-FAMILY: Arial"><P style="MARGIN: 0in 0in 0pt" class=MsoNormal><SPAN style="FONT-FAMILY: 'Trebuchet MS'\,'sans-serif'\; FONT-SIZE: 9pt">The two new businesses\, Fresh Deli and Front Street Brewery\, in conjunction with the LIC/City of Davenport plan to officially open in the Freight House on Saturday\, April 28<SUP>th</SUP> at 10:30am.<SPAN style="mso-spacerun: yes">&nbsp\; </SPAN>There will be a brief program\, with comments from the Mayor and businesses\, music and an open house.<?xml:namespace prefix = o ns = "urn:schemas-microsoft-com:office:office" /><o:p></o:p></SPAN></P></DIV>
LOCATION:Freight House421 West River Drive Davenport\, IA 52801
UID:e.2843.369
SEQUENCE:3
DTSTAMP:20260422T044434Z
URL:https://member.quadcitieschamber.com/events/details/freight-house-grand-opening-04-28-2012-369
END:VEVENT

END:VCALENDAR
