BEGIN:VCALENDAR
VERSION:2.0
PRODID:-//ChamberMaster//Event Calendar 2.0//EN
METHOD:PUBLISH
X-PUBLISHED-TTL:P3D
REFRESH-INTERVAL:P3D
CALSCALE:GREGORIAN
BEGIN:VEVENT
DTSTART:20180106T170000Z
DTEND:20180106T200000Z
X-MICROSOFT-CDO-ALLDAYEVENT:FALSE
SUMMARY:Fresh Thyme Farmers Market Naturual Living Health fair
DESCRIPTION:Get a jump start to your New Year's goals by checking out our health fair at Fresh Thyme Farmers Market! Visit with community partners\, awesome vendors\, and snag samples of your favorite vitamin and body care products!
X-ALT-DESC;FMTTYPE=text/html:<br />\n<span style="font-size:16px\;"><span style="color: rgb(66\, 66\, 66)\;">Get a jump start to your New Year&rsquo\;s goals by checking out our health fair at Fresh Thyme Farmers Market! Visit with community partners\, awesome vendors\, and snag samples of your favorite vitamin and body care products!&nbsp\;</span></span><br />\n<br />\n&nbsp\;
LOCATION:2100 E Kimberly Rd Davenport\, IA
UID:e.2843.9918
SEQUENCE:3
DTSTAMP:20260423T170053Z
URL:https://member.quadcitieschamber.com/events/details/fresh-thyme-farmers-market-naturual-living-health-fair-9918
END:VEVENT

END:VCALENDAR
