BEGIN:VCALENDAR
VERSION:2.0
PRODID:-//ChamberMaster//Event Calendar 2.0//EN
METHOD:PUBLISH
X-PUBLISHED-TTL:P3D
REFRESH-INTERVAL:P3D
CALSCALE:GREGORIAN
BEGIN:VEVENT
DTSTART:20140502T223000Z
DTEND:20140503T030000Z
X-MICROSOFT-CDO-ALLDAYEVENT:FALSE
SUMMARY:Friday Fun Night
DESCRIPTION:Fun Night -  Test\, Trophy & Gamblers  Open @ 5:30pm   Race 6pm - 10pm\nAdults $8  Kids(6-12) $3  Test $25  \nTrophy $30
X-ALT-DESC;FMTTYPE=text/html:Fun Night -  Test\, Trophy & Gamblers  Open @ 5:30pm   Race 6pm - 10pm\nAdults $8  Kids(6-12) $3  Test $25  \nTrophy $30 \n
LOCATION:
UID:e.2843.31
SEQUENCE:3
DTSTAMP:20260422T092837Z
URL:https://member.quadcitieschamber.com/events/details/friday-fun-night-05-02-2014-31
END:VEVENT

END:VCALENDAR
