BEGIN:VCALENDAR
VERSION:2.0
PRODID:-//ChamberMaster//Event Calendar 2.0//EN
METHOD:PUBLISH
X-PUBLISHED-TTL:P3D
REFRESH-INTERVAL:P3D
CALSCALE:GREGORIAN
BEGIN:VEVENT
DTSTART:20130917T190000Z
DTEND:20130917T193000Z
X-MICROSOFT-CDO-ALLDAYEVENT:FALSE
SUMMARY:Friendship Manor Ground Breaking
DESCRIPTION:Please join Friendship Manor in celebrating the expansion of their location on Tuesday\, September 17th at 2:00 p.m. – Located at 1209 - 21st Avenue  Rock Island\, IL 61201. http://mapq.st/18sq9tL  Friendship Manor is a retirement community that is a convenient and comfortable option\, offering choices that fit the needs of their residents. Individuals can move between independent living\, assisted living\, skilled nursing\, and rehabilitative services.  Friendship Manor is the only continuing care retirement community in the IL Quad Cities.  U.S. News voted Friendship Manor one of the best nursing homes of 2013.    For more information\, please visit http://friendshipmanor.org/. Thank You\,
X-ALT-DESC;FMTTYPE=text/html:<DIV style="FONT-FAMILY: Arial"><P style="MARGIN: 0in 0in 0pt" class=MsoNormal><SPAN style="mso-ascii-font-family: Calibri\; mso-ascii-theme-font: minor-latin\; mso-hansi-font-family: Calibri\; mso-hansi-theme-font: minor-latin"><FONT face=Calibri>Please join Friendship Manor in celebrating the expansion of their location on <B style="mso-bidi-font-weight: normal">Tuesday\, September 17th at 2:00 p.m.</B> – Located at 1209 - 21st Avenue<SPAN style="mso-spacerun: yes">&nbsp\; </SPAN>Rock Island\, IL 61201. </FONT><A href="http://mapq.st/18sq9tL"><FONT face="Times New Roman">http://mapq.st/18sq9tL</FONT></A><FONT face=Calibri> <?xml:namespace prefix = o ns = "urn:schemas-microsoft-com:office:office" /><o:p></o:p></FONT></SPAN></P><P style="MARGIN: 0in 0in 0pt" class=MsoNormal><SPAN style="mso-ascii-font-family: Calibri\; mso-ascii-theme-font: minor-latin\; mso-hansi-font-family: Calibri\; mso-hansi-theme-font: minor-latin"><o:p><FONT face=Calibri>&nbsp\;</FONT></o:p></SPAN></P><P style="MARGIN: 0in 0in 0pt" class=MsoNormal><SPAN style="mso-ascii-font-family: Calibri\; mso-ascii-theme-font: minor-latin\; mso-hansi-font-family: Calibri\; mso-hansi-theme-font: minor-latin"><FONT face=Calibri>Friendship Manor is a retirement community that is a convenient and comfortable option\, offering choices that fit the needs of their residents. Individuals can move between independent living\, assisted living\, skilled nursing\, and rehabilitative services.<SPAN style="mso-spacerun: yes">&nbsp\; </SPAN>Friendship Manor is the only continuing care retirement community in the IL Quad Cities.<SPAN style="mso-spacerun: yes">&nbsp\; </SPAN>U.S. News voted Friendship Manor one of the best nursing homes of 2013.<SPAN style="mso-spacerun: yes">&nbsp\;&nbsp\; </SPAN><o:p></o:p></FONT></SPAN></P><P style="MARGIN: 0in 0in 0pt" class=MsoNormal><SPAN style="mso-ascii-font-family: Calibri\; mso-ascii-theme-font: minor-latin\; mso-hansi-font-family: Calibri\; mso-hansi-theme-font: minor-latin"><o:p><FONT face=Calibri>&nbsp\;</FONT></o:p></SPAN></P><P style="MARGIN: 0in 0in 0pt" class=MsoNormal><SPAN style="mso-ascii-font-family: Calibri\; mso-ascii-theme-font: minor-latin\; mso-hansi-font-family: Calibri\; mso-hansi-theme-font: minor-latin"><FONT face=Calibri>For more information\, please visit </FONT><A href="http://friendshipmanor.org/"><FONT face="Times New Roman">http://friendshipmanor.org/</FONT></A><FONT face=Calibri>.<o:p></o:p></FONT></SPAN></P><P style="MARGIN: 0in 0in 0pt" class=MsoNormal><SPAN style="mso-ascii-font-family: Calibri\; mso-ascii-theme-font: minor-latin\; mso-hansi-font-family: Calibri\; mso-hansi-theme-font: minor-latin"><FONT face=Calibri><SPAN style="mso-spacerun: yes">&nbsp\;</SPAN><o:p></o:p></FONT></SPAN></P><P style="MARGIN: 0in 0in 0pt" class=MsoNormal><SPAN style="mso-ascii-font-family: Calibri\; mso-ascii-theme-font: minor-latin\; mso-hansi-font-family: Calibri\; mso-hansi-theme-font: minor-latin"><FONT face=Calibri>Thank You\, <o:p></o:p></FONT></SPAN></P></DIV>
LOCATION:Friendship Manor1209-21st. Ave. Rock Island\, IL 61201
UID:e.2843.599
SEQUENCE:3
DTSTAMP:20260421T201427Z
URL:https://member.quadcitieschamber.com/events/details/friendship-manor-ground-breaking-09-17-2013-599
END:VEVENT

END:VCALENDAR
