BEGIN:VCALENDAR
VERSION:2.0
PRODID:-//ChamberMaster//Event Calendar 2.0//EN
METHOD:PUBLISH
X-PUBLISHED-TTL:P3D
REFRESH-INTERVAL:P3D
CALSCALE:GREGORIAN
BEGIN:VEVENT
DTSTART:20190310T170000Z
DTEND:20190310T200000Z
X-MICROSOFT-CDO-ALLDAYEVENT:FALSE
SUMMARY:FSBOHOMES Open House: Learn More about Selling Your Home
DESCRIPTION:Our team will be here to walk you through and educate you on our home selling process. This typically only takes 15 minutes! Sandwiches from Jimmy Johns will be provided! Each client receives an upfront appraisal\, upfront home inspection\, professional photography\, 3D Tour\, floor plans\, complimentary attorney services\, professional signage and much more!\n\n\n\nhttps://www.fsbohomes.com/homes/bettendorf/ia/
X-ALT-DESC;FMTTYPE=text/html:<span style="color:rgb(29\, 33\, 41)\; font-family:system-ui\,-apple-system\,system-ui\,.sfnstext-regular\,sans-serif\; font-size:14px">Our team will be here to walk you through and educate you on our home selling process. This typically only takes 15 minutes! Sandwiches from Jimmy Johns will be provided! Each client receives an upfront appraisal\, upfront home inspection\, professional photography\, 3D Tour\, floor plans\, complimentary attorney services\, professional signage and much more!</span><br />\n<br />\n<a href="https://www.fsbohomes.com/homes/bettendorf/ia/?fbclid=IwAR2_AkbbmaMjNsIuoGyJIcy8ScllAw8AIbGStyH6Z37gfSxUUsF_HOCfYcs" rel="nofollow noopener" style="color: rgb(54\, 88\, 153)\; cursor: pointer\; text-decoration-line: none\; font-family: system-ui\, -apple-system\, system-ui\, &quot\;.SFNSText-Regular&quot\;\, sans-serif\; font-size: 14px\; white-space: pre-wrap\;" target="_blank">https://www.fsbohomes.com/homes/bettendorf/ia/</a>
LOCATION:FSBOHOMES 901 Middle Rd\, Bettendorf\, IA 52722
UID:e.2843.13814
SEQUENCE:3
DTSTAMP:20260422T182438Z
URL:https://member.quadcitieschamber.com/events/details/fsbohomes-open-house-learn-more-about-selling-your-home-13814
END:VEVENT

END:VCALENDAR
