BEGIN:VCALENDAR
VERSION:2.0
PRODID:-//ChamberMaster//Event Calendar 2.0//EN
METHOD:PUBLISH
X-PUBLISHED-TTL:P3D
REFRESH-INTERVAL:P3D
CALSCALE:GREGORIAN
BEGIN:VEVENT
DTSTART:20210122T160000Z
DTEND:20210122T230000Z
X-MICROSOFT-CDO-ALLDAYEVENT:FALSE
SUMMARY:FunBundle Friday
DESCRIPTION:Enter for a chance to win a FREE FunBundle\, which gives your family memberships to the Quad City Botanical Center\, Niabi Zoo and the Putnam\, only on January 22! For one day only\, visit the Putnam to enter for a chance to win on FunBundle Friday! Can't make it in person? You can still join the fun. When you purchase a FunBundle on Jan. 22 using the code WINTERFUN you'll get 25% off your FunBundle. That's savings ON TOP of savings. What's a FunBundle\, you ask? It's your all-in-one membership to three Quad City favorites: the Botanical Center\, Niabi Zoo and the Putnam Museum. It comes with tons of perks:   One year FREE admission to all three locations.   Access to member-only events.   10%+ discount to gift shops\, concessions\, education programs\, and more.   Free and discounted admission to zoos\, museums and gardens nationwide. Help us spread the word by sharing the Facebook Event with your friends! Learn more and see the full list of perks at funbundleqc.com!
X-ALT-DESC;FMTTYPE=text/html:Enter for a chance to win a FREE FunBundle\, which gives your family memberships to the Quad City Botanical Center\, Niabi Zoo and the Putnam\, only on January 22! For one day only\, visit the Putnam to enter for a chance to win on FunBundle Friday! Can&rsquo\;t make it in person? You can still join the fun. When you purchase a FunBundle on Jan. 22 using the code WINTERFUN you&rsquo\;ll get 25% off your FunBundle. That&rsquo\;s savings ON TOP of savings. What&rsquo\;s a FunBundle\, you ask? It&rsquo\;s your all-in-one membership to three Quad City favorites: the Botanical Center\, Niabi Zoo and the Putnam Museum. It comes with tons of perks: &bull\; One year FREE admission to all three locations. &bull\; Access to member-only events. &bull\; 10%+ discount to gift shops\, concessions\, education programs\, and more. &bull\; Free and discounted admission to zoos\, museums and gardens nationwide. Help us spread the word by sharing the Facebook Event with your friends! Learn more and see the full list of perks at funbundleqc.com!
LOCATION:Putnam Museum and Science Center
UID:e.2843.18738
SEQUENCE:3
DTSTAMP:20260421T062431Z
URL:https://member.quadcitieschamber.com/events/details/funbundle-friday-01-22-2021-18738
END:VEVENT

END:VCALENDAR
