BEGIN:VCALENDAR
VERSION:2.0
PRODID:-//ChamberMaster//Event Calendar 2.0//EN
METHOD:PUBLISH
X-PUBLISHED-TTL:P3D
REFRESH-INTERVAL:P3D
CALSCALE:GREGORIAN
BEGIN:VEVENT
DTSTART:20131029T180000Z
DTEND:20131029T183000Z
X-MICROSOFT-CDO-ALLDAYEVENT:FALSE
SUMMARY:Furnish 123 Grand Opening
DESCRIPTION:Please join Furnish 123 in celebrating the grand opening of their new location on Tuesday\, October 29th at 1:00pm – Located at 902 W. Kimberly Rd. Suite 5 Davenport\, IA 52806 (in the Village Shopping Center).  http://mapq.st/GJrV1w.   Furnish 123 is a full line furniture and mattress store with over 6000 items available for purchase.  They offer delivery and special financing.  The Ikidz store has the entire Ashley kids line up and their new “Live in Den” will have all the best Ashley furniture has to offer!  For more information visit www.furnish123quadcities.com.
X-ALT-DESC;FMTTYPE=text/html:<P style="MARGIN: 0in 0in 0pt" class=MsoNormal><FONT face=Calibri>Please join Furnish 123 in celebrating the grand opening of their new location on Tuesday\, October 29<SUP>th</SUP> at 1:00pm – Located at 902 W. Kimberly Rd. Suite 5 Davenport\, IA 52806 (in the Village Shopping Center).<SPAN style="mso-spacerun: yes">&nbsp\; </SPAN></FONT><A href="http://mapq.st/GJrV1w">http://mapq.st/GJrV1w</A><FONT face=Calibri>.<SPAN style="mso-spacerun: yes">&nbsp\; </SPAN><?xml:namespace prefix = o ns = "urn:schemas-microsoft-com:office:office" /><o:p></o:p></FONT></P><P style="MARGIN: 0in 0in 0pt" class=MsoNormal><o:p><FONT face=Calibri>&nbsp\;</FONT></o:p></P><P style="MARGIN: 0in 0in 0pt" class=MsoNormal><FONT face=Calibri>Furnish 123 is a full line furniture and mattress store with over 6000 items available for purchase.<SPAN style="mso-spacerun: yes">&nbsp\; </SPAN>They offer delivery and special financing.<SPAN style="mso-spacerun: yes">&nbsp\; </SPAN>The Ikidz store has the entire Ashley kids line up and their new “Live in Den” will have all the best Ashley furniture has to offer! <o:p></o:p></FONT></P><P style="MARGIN: 0in 0in 0pt" class=MsoNormal><o:p><FONT face=Calibri>&nbsp\;</FONT></o:p></P><P style="MARGIN: 0in 0in 0pt" class=MsoNormal><FONT face=Calibri>For more information visit </FONT><A href="http://www.furnish123quadcities.com">www.furnish123quadcities.com</A><FONT face=Calibri>. <o:p></o:p></FONT></P><P>&nbsp\;</P>
LOCATION:Furnish 123902 W. Kimberly Rd Ste. 5 Davenport\, IA 52806
UID:e.2843.728
SEQUENCE:3
DTSTAMP:20260421T201426Z
URL:https://member.quadcitieschamber.com/events/details/furnish-123-grand-opening-10-29-2013-728
END:VEVENT

END:VCALENDAR
