BEGIN:VCALENDAR
VERSION:2.0
PRODID:-//ChamberMaster//Event Calendar 2.0//EN
METHOD:PUBLISH
X-PUBLISHED-TTL:P3D
REFRESH-INTERVAL:P3D
CALSCALE:GREGORIAN
BEGIN:VEVENT
DTSTART:20120223T170000Z
DTEND:20120223T173000Z
X-MICROSOFT-CDO-ALLDAYEVENT:FALSE
SUMMARY:Furnish 123/I Kidz Rooms Ribbon Cutting
DESCRIPTION:Please help us celebrate new member Furnish 123/I Kidz Rooms with a ribbon cutting on Thursday\, February 23rd at 11am.  This store is inside South Park Mall by Von Maur.  This is the first stand-alone I Kidz Rooms store in the country.  Visit their website at www.furnish123.com  Thank you!!!
X-ALT-DESC;FMTTYPE=text/html:<DIV><FONT face=Calibri><P style="MARGIN: 0in 0in 0pt" class=MsoNormal>Please help us celebrate new member Furnish 123/I Kidz Rooms with a ribbon cutting on <B style="mso-bidi-font-weight: normal"><SPAN style="FONT-SIZE: 14pt">Thursday\, February 23<SUP>rd</SUP> at</SPAN></B> <B style="mso-bidi-font-weight: normal"><SPAN style="FONT-SIZE: 14pt">11am</SPAN></B>.<SPAN style="mso-spacerun: yes">&nbsp\; </SPAN>This store is inside South Park Mall by Von Maur.<SPAN style="mso-spacerun: yes">&nbsp\; </SPAN>This is the first stand-alone I Kidz Rooms store in the country.<SPAN style="mso-spacerun: yes">&nbsp\; </SPAN>Visit their website at <A href="http://www.furnish123.com"><FONT face="Times New Roman">www.furnish123.com</FONT></A> </P><P style="MARGIN: 0in 0in 0pt" class=MsoNormal><?xml:namespace prefix = o ns = "urn:schemas-microsoft-com:office:office" /><o:p>&nbsp\;</o:p></P><P style="MARGIN: 0in 0in 0pt" class=MsoNormal>Thank you!!!</P><P style="MARGIN: 0in 0in 0pt" class=MsoNormal>&nbsp\;</P></FONT></DIV>
LOCATION:Furnish 123/I Kidz Rooms4500 16th Street Moline\, IL 61265
UID:e.2843.350
SEQUENCE:3
DTSTAMP:20260422T081042Z
URL:https://member.quadcitieschamber.com/events/details/furnish-123-i-kidz-rooms-ribbon-cutting-02-23-2012-350
END:VEVENT

END:VCALENDAR
