BEGIN:VCALENDAR
VERSION:2.0
PRODID:-//ChamberMaster//Event Calendar 2.0//EN
METHOD:PUBLISH
X-PUBLISHED-TTL:P3D
REFRESH-INTERVAL:P3D
CALSCALE:GREGORIAN
BEGIN:VEVENT
DTSTART:20130927T183000Z
DTEND:20130927T190000Z
X-MICROSOFT-CDO-ALLDAYEVENT:FALSE
SUMMARY:Galaxy 1 Marketing 10 Year Anniversary Ribbon Cutting
DESCRIPTION:Please join Galaxy 1 Marketing Inc. in celebrating their 10th year anniversary this Friday\, September 27th at 1:30pm Located at 4038 Utica Ridge Road Bettendorf\, IA 52722 (South of Unity Point).  http://mapq.st/16u4PkX. Galaxy 1 Marketing is dedicated to helping customers get the highest quality programming and technology at the lowest\, all-digital price every day.  For more information please visit www.galaxy1.tv.
X-ALT-DESC;FMTTYPE=text/html:<DIV style="FONT-FAMILY: Arial"><P style="MARGIN: 0in 0in 0pt" class=MsoNormal><FONT face=Calibri>Please join Galaxy 1 Marketing Inc. in celebrating their 10th year anniversary this Friday\, September 27<SUP>th</SUP> at 1:30pm Located at 4038 Utica Ridge Road Bettendorf\, IA 52722 (South of Unity Point).<SPAN style="mso-spacerun: yes">&nbsp\; </SPAN></FONT><A href="http://mapq.st/16u4PkX"><FONT face="Times New Roman">http://mapq.st/16u4PkX</FONT></A><FONT face=Calibri>.<?xml:namespace prefix = o ns = "urn:schemas-microsoft-com:office:office" /><o:p></o:p></FONT></P><P style="MARGIN: 0in 0in 0pt" class=MsoNormal><o:p><FONT face=Calibri>&nbsp\;</FONT></o:p></P><P style="MARGIN: 0in 0in 0pt" class=MsoNormal><FONT face=Calibri>Galaxy 1 Marketing is dedicated to helping customers get the highest quality programming and technology at the lowest\, all-digital price every day.<SPAN style="mso-spacerun: yes">&nbsp\; </SPAN>For more information please visit </FONT><A href="http://www.galaxy1.tv"><FONT face="Times New Roman">www.galaxy1.tv</FONT></A><FONT face=Calibri>.<SPAN style="mso-spacerun: yes">&nbsp\; </SPAN></FONT><o:p></o:p></P></DIV>
LOCATION:Galaxy 1 Marketing Inc.4038 Utica Ridge Road Bettendorf\, IA 52722
UID:e.2843.698
SEQUENCE:3
DTSTAMP:20260421T202610Z
URL:https://member.quadcitieschamber.com/events/details/galaxy-1-marketing-10-year-anniversary-ribbon-cutting-09-27-2013-698
END:VEVENT

END:VCALENDAR
