BEGIN:VCALENDAR
VERSION:2.0
PRODID:-//ChamberMaster//Event Calendar 2.0//EN
METHOD:PUBLISH
X-PUBLISHED-TTL:P3D
REFRESH-INTERVAL:P3D
CALSCALE:GREGORIAN
BEGIN:VEVENT
DTSTART:20130215T160000Z
DTEND:20130215T163000Z
X-MICROSOFT-CDO-ALLDAYEVENT:FALSE
SUMMARY:Genesis Physical Therapy & Sports Medicine Ribbon Cutting
DESCRIPTION:Please help Genesis Physical Therapy & Sports Medicine celebrate their new location with a ribbon cutting on Friday\, February 15th at 10:00am.  Located at 1702 E. 53rd Street in Davenport – corner of 53rd Street and Eastern Avenue. ·         Only underwater treadmill in the QC region·         Clinic designed specifically to treat orthopedic and sports injuries·         Physical therapy and occupational therapy·         Orthopedic specialists·         Certified hand therapists·         Individualized therapy For more information\, visit www.genesishealth.com/rehab
X-ALT-DESC;FMTTYPE=text/html:<DIV style="FONT-FAMILY: Arial"><P style="MARGIN: 0in 0in 0pt" class=MsoNormal><FONT face=Calibri>Please help Genesis Physical Therapy &amp\; Sports Medicine celebrate their new location with a ribbon cutting on Friday\, February 15<SUP>th</SUP> at 10:00am.<SPAN style="mso-spacerun: yes">&nbsp\; </SPAN>Located at 1702 E. 53<SUP>rd</SUP> Street in Davenport – corner of 53<SUP>rd</SUP> Street and Eastern Avenue.</FONT></P><P style="MARGIN: 0in 0in 0pt" class=MsoNormal><?xml:namespace prefix = o ns = "urn:schemas-microsoft-com:office:office" /><o:p><FONT face=Calibri>&nbsp\;</FONT></o:p></P><P style="TEXT-INDENT: -0.25in\; MARGIN: 0in 0in 0pt 0.5in\; mso-list: l0 level1 lfo1" class=MsoListParagraph><SPAN style="FONT-FAMILY: Symbol\; mso-fareast-font-family: Symbol\; mso-bidi-font-family: Symbol"><SPAN style="mso-list: Ignore">·<SPAN style="FONT: 7pt 'Times New Roman'">&nbsp\;&nbsp\;&nbsp\;&nbsp\;&nbsp\;&nbsp\;&nbsp\;&nbsp\; </SPAN></SPAN></SPAN><FONT face=Calibri>Only underwater treadmill in the QC region</FONT></P><P style="TEXT-INDENT: -0.25in\; MARGIN: 0in 0in 0pt 0.5in\; mso-list: l0 level1 lfo1" class=MsoListParagraph><SPAN style="FONT-FAMILY: Symbol\; mso-fareast-font-family: Symbol\; mso-bidi-font-family: Symbol"><SPAN style="mso-list: Ignore">·<SPAN style="FONT: 7pt 'Times New Roman'">&nbsp\;&nbsp\;&nbsp\;&nbsp\;&nbsp\;&nbsp\;&nbsp\;&nbsp\; </SPAN></SPAN></SPAN><FONT face=Calibri>Clinic designed specifically to treat orthopedic and sports injuries</FONT></P><P style="TEXT-INDENT: -0.25in\; MARGIN: 0in 0in 0pt 0.5in\; mso-list: l0 level1 lfo1" class=MsoListParagraph><SPAN style="FONT-FAMILY: Symbol\; mso-fareast-font-family: Symbol\; mso-bidi-font-family: Symbol"><SPAN style="mso-list: Ignore">·<SPAN style="FONT: 7pt 'Times New Roman'">&nbsp\;&nbsp\;&nbsp\;&nbsp\;&nbsp\;&nbsp\;&nbsp\;&nbsp\; </SPAN></SPAN></SPAN><FONT face=Calibri>Physical therapy and occupational therapy</FONT></P><P style="TEXT-INDENT: -0.25in\; MARGIN: 0in 0in 0pt 0.5in\; mso-list: l0 level1 lfo1" class=MsoListParagraph><SPAN style="FONT-FAMILY: Symbol\; mso-fareast-font-family: Symbol\; mso-bidi-font-family: Symbol"><SPAN style="mso-list: Ignore">·<SPAN style="FONT: 7pt 'Times New Roman'">&nbsp\;&nbsp\;&nbsp\;&nbsp\;&nbsp\;&nbsp\;&nbsp\;&nbsp\; </SPAN></SPAN></SPAN><FONT face=Calibri>Orthopedic specialists</FONT></P><P style="TEXT-INDENT: -0.25in\; MARGIN: 0in 0in 0pt 0.5in\; mso-list: l0 level1 lfo1" class=MsoListParagraph><SPAN style="FONT-FAMILY: Symbol\; mso-fareast-font-family: Symbol\; mso-bidi-font-family: Symbol"><SPAN style="mso-list: Ignore">·<SPAN style="FONT: 7pt 'Times New Roman'">&nbsp\;&nbsp\;&nbsp\;&nbsp\;&nbsp\;&nbsp\;&nbsp\;&nbsp\; </SPAN></SPAN></SPAN><FONT face=Calibri>Certified hand therapists</FONT></P><P style="TEXT-INDENT: -0.25in\; MARGIN: 0in 0in 0pt 0.5in\; mso-list: l0 level1 lfo1" class=MsoListParagraph><SPAN style="FONT-FAMILY: Symbol\; mso-fareast-font-family: Symbol\; mso-bidi-font-family: Symbol"><SPAN style="mso-list: Ignore">·<SPAN style="FONT: 7pt 'Times New Roman'">&nbsp\;&nbsp\;&nbsp\;&nbsp\;&nbsp\;&nbsp\;&nbsp\;&nbsp\; </SPAN></SPAN></SPAN><FONT face=Calibri>Individualized therapy</FONT></P><P style="MARGIN: 0in 0in 0pt" class=MsoNormal><o:p><FONT face=Calibri>&nbsp\;</FONT></o:p></P><P style="MARGIN: 0in 0in 0pt" class=MsoNormal><FONT face=Calibri>For more information\, visit </FONT><A href="http://www.genesishealth.com/rehab"><FONT face="Times New Roman">www.genesishealth.com/rehab</FONT></A></P></DIV>
LOCATION:Genesis Physical Therapy1702 E. 53rd Street Davenport\, IA
UID:e.2843.513
SEQUENCE:3
DTSTAMP:20260421T110639Z
URL:https://member.quadcitieschamber.com/events/details/genesis-physical-therapy-sports-medicine-ribbon-cutting-02-15-2013-513
END:VEVENT

END:VCALENDAR
