BEGIN:VCALENDAR
VERSION:2.0
PRODID:-//ChamberMaster//Event Calendar 2.0//EN
METHOD:PUBLISH
X-PUBLISHED-TTL:P3D
REFRESH-INTERVAL:P3D
CALSCALE:GREGORIAN
BEGIN:VEVENT
DTSTART:20200104T190000Z
DTEND:20200104T200000Z
X-MICROSOFT-CDO-ALLDAYEVENT:FALSE
SUMMARY:Gentle Yoga & Sound Healing
DESCRIPTION:Gentle Yoga & Sound Healing is a great class for everybody and EVERY BODY!! Gentle yoga combines physical postures and breathing techniques ..No yoga experience is necessary because modifications will be given to make everyone feel that they can get into every pose.  Yoga is not about touching your toes or handstands\, but about enjoying the journey of your practice. This class will be a combination of movement with breath work and sound healing to deeply relax and send good healing vibrations right down to the cellular level!! \n\n\n\nSound healing uses the power of sound to restore one's mind\, body and spirit back to a state of homeostasis or balance. The harmonic vibrations from the instruments have a deep penetrating effect on the person\, promoting healing\, peace and well-being.  The sound waves from the instruments entrain the brain and heart inducing a deeper meditative and a more peaceful state.  The sound resonates directly into our cellular memory releasing blockages and creating a profound sense of peace and relaxation.  It's like receiving a full body massage from the inside out!  \n\n\n\n\n\nBenefits of Sound Healing and what you may experience:\n\n   \n\n  Deep profound relaxation\n\n  Decrease in stress\, anxiety and depression\n\n  Improved sleep\n\n  Release of blocked or stuck emotions and/or energy \n\n  An enhanced sense of wellness\n\n  Feeling more centered and balanced \n\n  Quiets the monkey mind \n\n  Positive impact on your physical\, emotional\, mental and spiritual wellbeing\n\n  Helps you to cope with life's changes and challenges\n\n  Increases vital energy flow\, creativity\, intuition\n\n  Heightened perceptions and sensations in the body\n\n\n\n\n\nThe sound healing portions may include drumming\, gongs\, crystal singing bowls\, Tibetan singing bowls\, tongue drums\, rattles\, shakers\, tuning forks and Tingshas. \n\n\n\n\n\nIf we accept that sound is vibration and we know that vibration touches every part of our physical being\, then we understand that sound is heard not only through our ears but through every cell in our bodies.\n\n\n\n~Dr. Mitchell L. Gaynor\, M.D.
X-ALT-DESC;FMTTYPE=text/html:<br />\n<span style="background-color:transparent\; color:rgb(29\, 33\, 41)\; font-family:helvetica\,arial\,sans-serif\; font-size:14px">Gentle Yoga &amp\; Sound Healing is a great class for everybody and EVERY BODY!! Gentle yoga combines physical postures and breathing techniques&hellip\;..No yoga experience is necessary because modifications will be given to make everyone feel that they can get into every pose.&nbsp\; Yoga is not about touching your toes or handstands\, but about enjoying the journey of your practice. This class will be a combination of movement with breath work and sound healing to deeply relax and send good healing vibrations right down to the cellular level!! </span><br />\n<br />\n<span style="background-color:transparent\; color:rgb(29\, 33\, 41)\; font-family:helvetica\,arial\,sans-serif\; font-size:14px">Sound healing uses the power of sound to restore one&rsquo\;s mind\, body and spirit back to a state of homeostasis or balance. The harmonic vibrations from the instruments have a deep penetrating effect on the person\, promoting healing\, peace and well-being.&nbsp\; The sound waves from the instruments entrain the brain and heart inducing a deeper meditative and a more peaceful state.&nbsp\; The sound resonates directly into our cellular memory releasing blockages and creating a profound sense of peace and relaxation.&nbsp\; It&rsquo\;s like receiving a full body massage from the inside out!&nbsp\; </span><br />\n<br />\n<br />\n<span style="background-color:transparent\; color:rgb(29\, 33\, 41)\; font-family:helvetica\,arial\,sans-serif\; font-size:14px">Benefits of Sound Healing and what you may experience:</span><br />\n<span style="background-color:transparent\; color:rgb(29\, 33\, 41)\; font-family:helvetica\,arial\,sans-serif\; font-size:14px">&nbsp\;&nbsp\; </span><br />\n<span style="background-color:transparent\; color:rgb(29\, 33\, 41)\; font-family:helvetica\,arial\,sans-serif\; font-size:14px">&bull\; Deep profound relaxation</span><br />\n<span style="background-color:transparent\; color:rgb(29\, 33\, 41)\; font-family:helvetica\,arial\,sans-serif\; font-size:14px">&bull\; Decrease in stress\, anxiety and depression</span><br />\n<span style="background-color:transparent\; color:rgb(29\, 33\, 41)\; font-family:helvetica\,arial\,sans-serif\; font-size:14px">&bull\; Improved sleep</span><br />\n<span style="background-color:transparent\; color:rgb(29\, 33\, 41)\; font-family:helvetica\,arial\,sans-serif\; font-size:14px">&bull\; Release of blocked or stuck emotions and/or energy </span><br />\n<span style="background-color:transparent\; color:rgb(29\, 33\, 41)\; font-family:helvetica\,arial\,sans-serif\; font-size:14px">&bull\; An enhanced sense of wellness</span><br />\n<span style="background-color:transparent\; color:rgb(29\, 33\, 41)\; font-family:helvetica\,arial\,sans-serif\; font-size:14px">&bull\; Feeling more centered and balanced </span><br />\n<span style="background-color:transparent\; color:rgb(29\, 33\, 41)\; font-family:helvetica\,arial\,sans-serif\; font-size:14px">&bull\; Quiets the monkey mind </span><br />\n<span style="background-color:transparent\; color:rgb(29\, 33\, 41)\; font-family:helvetica\,arial\,sans-serif\; font-size:14px">&bull\; Positive impact on your physical\, emotional\, mental and spiritual wellbeing</span><br />\n<span style="background-color:transparent\; color:rgb(29\, 33\, 41)\; font-family:helvetica\,arial\,sans-serif\; font-size:14px">&bull\; Helps you to cope with life&#39\;s changes and challenges</span><br />\n<span style="background-color:transparent\; color:rgb(29\, 33\, 41)\; font-family:helvetica\,arial\,sans-serif\; font-size:14px">&bull\; Increases vital energy flow\, creativity\, intuition</span><br />\n<span style="background-color:transparent\; color:rgb(29\, 33\, 41)\; font-family:helvetica\,arial\,sans-serif\; font-size:14px">&bull\; Heightened perceptions and sensations in the body</span><br />\n<br />\n<br />\n<span style="background-color:transparent\; color:rgb(29\, 33\, 41)\; font-family:helvetica\,arial\,sans-serif\; font-size:14px">The sound healing portions may include drumming\, gongs\, crystal singing bowls\, Tibetan singing bowls\, tongue drums\, rattles\, shakers\, tuning forks and Tingshas. </span><br />\n<br />\n<br />\n<span style="background-color:transparent\; color:rgb(29\, 33\, 41)\; font-family:helvetica\,arial\,sans-serif\; font-size:14px">If we accept that sound is vibration and we know that vibration touches every part of our physical being\, then we understand that sound is heard not only through our ears but through every cell in our bodies.</span><br />\n<br />\n<span style="background-color:transparent\; color:rgb(29\, 33\, 41)\; font-family:helvetica\,arial\,sans-serif\; font-size:14px">~Dr. Mitchell L. Gaynor\, M.D.</span>
LOCATION:Revive & Renew Wholistic Therapies 4360 Kennedy Dr.\, East Moline\, IL 61265
UID:e.2843.17440
SEQUENCE:3
DTSTAMP:20260422T015415Z
URL:https://member.quadcitieschamber.com/events/details/gentle-yoga-sound-healing-17440
END:VEVENT

END:VCALENDAR
