BEGIN:VCALENDAR
VERSION:2.0
PRODID:-//ChamberMaster//Event Calendar 2.0//EN
METHOD:PUBLISH
X-PUBLISHED-TTL:P3D
REFRESH-INTERVAL:P3D
CALSCALE:GREGORIAN
BEGIN:VEVENT
DTSTART:20141107T060000Z
DTEND:20141108T060000Z
X-MICROSOFT-CDO-ALLDAYEVENT:FALSE
SUMMARY:Get Jazzed 2014
DESCRIPTION:Get Jazzed for the Holidays 2014 It's time to mark your calendat for our downtown Holiday Open House Event. Bad Boyz Pizza & Pub\, Barrel House\, Bass & Henry Salon\, Bent River Brewery\, Bierstube\, BRIX\, Broken Saddle\, Dead Poat's Espresso\, Floorcrafters\, Isabel Bloom\, Julie's Artistic Rose\, Largomarcino's\, Las Regias\, Pub 1848\, Results Body Sculpting\, River House\, The Scrapbooking Studio\, The Slice Pizza\, Two Rivers Massage\, Watermark Corners Learn more here
X-ALT-DESC;FMTTYPE=text/html:<DIV style="FONT-FAMILY: Arial">Get Jazzed for the Holidays 2014</DIV><DIV style="FONT-FAMILY: Arial">&nbsp\;</DIV><DIV style="FONT-FAMILY: Arial">It's time to mark your calendat for our downtown Holiday Open House Event.</DIV><DIV style="FONT-FAMILY: Arial">&nbsp\;</DIV><DIV style="FONT-FAMILY: Arial">Bad Boyz Pizza &amp\; Pub\, Barrel House\, Bass &amp\; Henry Salon\, Bent River Brewery\, Bierstube\, BRIX\, Broken Saddle\, Dead Poat's Espresso\, Floorcrafters\, Isabel Bloom\, Julie's Artistic Rose\, Largomarcino's\, Las Regias\, Pub 1848\, Results Body Sculpting\, River House\, The Scrapbooking Studio\, The Slice Pizza\, Two Rivers Massage\, Watermark Corners</DIV><DIV style="FONT-FAMILY: Arial">&nbsp\;</DIV><DIV style="FONT-FAMILY: Arial">Learn more <A dataFld=0:0 href="http://www.moline.il.us/index.aspx?nid=355">here</A> </DIV>
LOCATION:Downtown Moline
UID:e.2843.936
SEQUENCE:3
DTSTAMP:20260422T155526Z
URL:https://member.quadcitieschamber.com/events/details/get-jazzed-2014-11-07-2014-936
END:VEVENT

END:VCALENDAR
