BEGIN:VCALENDAR
VERSION:2.0
PRODID:-//ChamberMaster//Event Calendar 2.0//EN
METHOD:PUBLISH
X-PUBLISHED-TTL:P3D
REFRESH-INTERVAL:P3D
CALSCALE:GREGORIAN
BEGIN:VEVENT
DTSTART:20190521T180000Z
DTEND:20190521T190000Z
X-MICROSOFT-CDO-ALLDAYEVENT:FALSE
SUMMARY:Get to Know: Chickasaw Nation Industries - Hub
DESCRIPTION:The Quad Cities Manufacturing Innovation Hub\, an initiative of the Quad Cities Chamber\, is pleased to provide this supplier networking opportunity with Chickasaw Nation Industries to our region's businesses.\n\n\n\nChickasaw Nation Industries (CNI) Defense Division's subject matter expertise combines innovative\, efficient\, and cost-effective solutions to provide long-term\, sustainable defense logistics capabilities that enhance overall mission readiness.  CNI provides support to defense operations globally\, applying their core capabilities and solutions in Integrated Logistics\, Supply Chain Management and Information Technology.  \n\n \n\nThey are always looking for exemplary partners and suppliers (large and small) in support of their customers within the areas of Supply Chain Management and Integrated Logistics.  If your company has the following capabilities/services\, please join us to learn how you might partner with CNI:\n\n	Component Manufacturing (not commodity specific) - NSN specific\, Build to Print\n	Commercial off the Shelf Products   Manufacturing and Franchised Distributors\n	Facility support services:  General Contracting\, Construction (masonry\, plumbing\, HVAC\, concrete\, electrical)\, equipment installation/maintenance
X-ALT-DESC;FMTTYPE=text/html:The Quad Cities Manufacturing Innovation Hub\, an initiative of the Quad Cities Chamber\, is pleased to provide this supplier networking opportunity with <a href="http://www.chickasaw.com" target="_blank">Chickasaw Nation Industries</a> to our region&#39\;s businesses.<br />\n<br />\nChickasaw Nation Industries (CNI) Defense Division&rsquo\;s subject matter expertise combines innovative\, efficient\, and cost-effective solutions to provide long-term\, sustainable defense logistics capabilities that enhance overall mission readiness.&nbsp\; CNI provides support to defense operations globally\, applying their core capabilities and solutions in Integrated Logistics\, Supply Chain Management and Information Technology.&nbsp\;&nbsp\;<br />\n&nbsp\;<br />\nThey are always looking for exemplary partners and suppliers (large and small) in support of their customers within the areas of Supply Chain Management and Integrated Logistics.&nbsp\; If your company has the following capabilities/services\, please join us to learn how you might partner with CNI:\n<ul>\n	<li><span style="color:#212121\;">Component Manufacturing (not commodity specific) - NSN specific\, Build to Print</span></li>\n	<li><span style="color:#212121\;">Commercial off the Shelf Products &ndash\; Manufacturing and Franchised Distributors</span></li>\n	<li><span style="color:#212121\;">Facility support services:&nbsp\; General Contracting\, Construction (masonry\, plumbing\, HVAC\, concrete\, electrical)\, equipment installation/maintenance</span></li>\n</ul>\n
LOCATION:Quad Cities Chamber Arconic Conference Room 331 W. 3rd St. Davenport\, IA
UID:e.2843.14326
SEQUENCE:3
DTSTAMP:20260422T145450Z
URL:https://member.quadcitieschamber.com/events/details/get-to-know-chickasaw-nation-industries-hub-14326
END:VEVENT

END:VCALENDAR
