BEGIN:VCALENDAR
VERSION:2.0
PRODID:-//ChamberMaster//Event Calendar 2.0//EN
METHOD:PUBLISH
X-PUBLISHED-TTL:P3D
REFRESH-INTERVAL:P3D
CALSCALE:GREGORIAN
BEGIN:VEVENT
DTSTART:20090716T050000Z
DTEND:20090716T050000Z
X-MICROSOFT-CDO-ALLDAYEVENT:FALSE
SUMMARY:Getting Motivated Lunch - $20 each
DESCRIPTION:Getting Motivated Lunch - $20 each
X-ALT-DESC;FMTTYPE=text/html:Getting Motivated Lunch - $20 each
LOCATION:
UID:e.2843.3730
SEQUENCE:3
DTSTAMP:20260424T061103Z
URL:https://member.quadcitieschamber.com/events/details/getting-motivated-lunch-20-each-07-16-2009-3730
END:VEVENT

END:VCALENDAR
