BEGIN:VCALENDAR
VERSION:2.0
PRODID:-//ChamberMaster//Event Calendar 2.0//EN
METHOD:PUBLISH
X-PUBLISHED-TTL:P3D
REFRESH-INTERVAL:P3D
CALSCALE:GREGORIAN
BEGIN:VEVENT
DTSTART:20090716T050000Z
DTEND:20090716T050000Z
X-MICROSOFT-CDO-ALLDAYEVENT:FALSE
SUMMARY:Getting Motivated Seminar Tickets Only-150 LIMIT
DESCRIPTION:Getting Motivated Seminar Tickets Only-150 LIMIT
X-ALT-DESC;FMTTYPE=text/html:Getting Motivated Seminar Tickets Only-150 LIMIT
LOCATION:
UID:e.2843.3738
SEQUENCE:3
DTSTAMP:20260424T061435Z
URL:https://member.quadcitieschamber.com/events/details/getting-motivated-seminar-tickets-only-150-limit-07-16-2009-3738
END:VEVENT

END:VCALENDAR
