BEGIN:VCALENDAR
VERSION:2.0
PRODID:-//ChamberMaster//Event Calendar 2.0//EN
METHOD:PUBLISH
X-PUBLISHED-TTL:P3D
REFRESH-INTERVAL:P3D
CALSCALE:GREGORIAN
BEGIN:VEVENT
DTSTART:20181006T120000Z
DTEND:20181006T170000Z
X-MICROSOFT-CDO-ALLDAYEVENT:FALSE
SUMMARY:GiGi’s Playhouse Superhero 5K\, 1 Mile Walk and Kids Dash
DESCRIPTION:3 Events   One Morning 8:30 5K Competitive Run 9:30 Kids Dash 10:00 1 Mile Family Walk Join us for the annual Superhero 5K\, 1 Mile Walk and Kids Dash for Down syndrome! This is a family friendly morning that raises community awareness of and acceptance for individuals with Down syndrome. There will be food\, bounce house\, temporary tattoos and more! Funds raised through this event allows the local Down syndrome achievement center to continue offering free services and programs for individuals with Down syndrome\, their families\, and the community. All participants registered by September 24th receive a cool shirt! Your participation and support makes this possible! Price increases September 1st. Join the event page on Facebook for announcements: http://bit.ly/superherorunwalk
X-ALT-DESC;FMTTYPE=text/html:3 Events &ndash\; One Morning 8:30 5K Competitive Run 9:30 Kids Dash 10:00 1 Mile Family Walk Join us for the annual Superhero 5K\, 1 Mile Walk and Kids Dash for Down syndrome! This is a family friendly morning that raises community awareness of and acceptance for individuals with Down syndrome. There will be food\, bounce house\, temporary tattoos and more! Funds raised through this event allows the local Down syndrome achievement center to continue offering free services and programs for individuals with Down syndrome\, their families\, and the community. All participants registered by September 24th receive a cool shirt! Your participation and support makes this possible! Price increases September 1st. Join the event page on Facebook for announcements: http://bit.ly/superherorunwalk
LOCATION:Veterans Memorial Park 1645 23rd St\, Bettendorf\, IA\, 52722
UID:e.2843.13371
SEQUENCE:3
DTSTAMP:20260423T031003Z
URL:https://member.quadcitieschamber.com/events/details/gigi-s-playhouse-superhero-5k-1-mile-walk-and-kids-dash-13371
END:VEVENT

END:VCALENDAR
