BEGIN:VCALENDAR
VERSION:2.0
PRODID:-//ChamberMaster//Event Calendar 2.0//EN
METHOD:PUBLISH
X-PUBLISHED-TTL:P3D
REFRESH-INTERVAL:P3D
CALSCALE:GREGORIAN
BEGIN:VEVENT
DTSTART:20130530T213000Z
DTEND:20130530T220000Z
X-MICROSOFT-CDO-ALLDAYEVENT:FALSE
SUMMARY:Girl Scouts of Eastern Iowa and Western Illinois Ribbon Cutting
DESCRIPTION:Please help the Girl Scouts of Eastern Iowa and Western Illinois celebrate their new location on Thursday\, May 30th at 4:30pm – Located at 940 Golden Valley Drive\, Bettendorf. For 100 years\, Girl Scouts has built girls of courage\, confidence and character who make the world a better place. Visit www.GirlsScoutsToday.org for more information.
X-ALT-DESC;FMTTYPE=text/html:<P style="MARGIN: 0in 0in 0pt" class=MsoNormal><FONT face=Calibri>Please help the Girl Scouts of Eastern Iowa and Western Illinois celebrate their new location on Thursday\, May 30<SUP>th</SUP> at 4:30pm – Located at 940 Golden Valley Drive\, Bettendorf.<?xml:namespace prefix = o ns = "urn:schemas-microsoft-com:office:office" /><o:p></o:p></FONT></P><P style="MARGIN: 0in 0in 0pt" class=MsoNormal><o:p><FONT face=Calibri>&nbsp\;</FONT></o:p></P><P style="MARGIN: 0in 0in 0pt" class=MsoNormal><FONT face=Calibri>For 100 years\, Girl Scouts has built girls of courage\, confidence and character who make the world a better place.<o:p></o:p></FONT></P><P style="MARGIN: 0in 0in 0pt" class=MsoNormal><o:p><FONT face=Calibri>&nbsp\;</FONT></o:p></P><P style="MARGIN: 0in 0in 0pt" class=MsoNormal><FONT face=Calibri>Visit </FONT><A href="http://www.GirlsScoutsToday.org"><FONT face="Times New Roman">www.GirlsScoutsToday.org</FONT></A><FONT face=Calibri> for more information.<o:p></o:p></FONT></P><P>&nbsp\;</P>
LOCATION:Girl Scouts of Eastern IA & Western IL940 Golden Valley Drive Bettendorf\, IA 527221606
UID:e.2843.560
SEQUENCE:3
DTSTAMP:20260421T121652Z
URL:https://member.quadcitieschamber.com/events/details/girl-scouts-of-eastern-iowa-and-western-illinois-ribbon-cutting-05-30-2013-560
END:VEVENT

END:VCALENDAR
