BEGIN:VCALENDAR
VERSION:2.0
PRODID:-//ChamberMaster//Event Calendar 2.0//EN
METHOD:PUBLISH
X-PUBLISHED-TTL:P3D
REFRESH-INTERVAL:P3D
CALSCALE:GREGORIAN
BEGIN:VEVENT
DTSTART:20121018T220000Z
DTEND:20121019T020000Z
X-MICROSOFT-CDO-ALLDAYEVENT:FALSE
SUMMARY:Girls' Night Out
DESCRIPTION:Trinity Regional Health System is hosting a fashion-forward\, fabulous\, and dazzling Spirit Girls' Night Out to inspire women to love the person they are every day.  Trinity will teach women how to gettheir groove back\, hug their curves and face the woman in the mirror.\n$20 for Spirit Members\n$30 for non spirit members (includes life time membership to Spirit of Women)
X-ALT-DESC;FMTTYPE=text/html:Trinity Regional Health System is hosting a fashion-forward\, fabulous\, and dazzling Spirit Girls' Night Out to inspire women to love the person they are every day.  Trinity will teach women how to gettheir groove back\, hug their curves and face the woman in the mirror.\n$20 for Spirit Members\n$30 for non spirit members (includes life time membership to Spirit of Women)
LOCATION:North Park Mall
UID:e.2843.100
SEQUENCE:3
DTSTAMP:20260421T165904Z
URL:https://member.quadcitieschamber.com/events/details/girls-night-out-10-18-2012-100
END:VEVENT

END:VCALENDAR
