BEGIN:VCALENDAR
VERSION:2.0
PRODID:-//ChamberMaster//Event Calendar 2.0//EN
METHOD:PUBLISH
X-PUBLISHED-TTL:P3D
REFRESH-INTERVAL:P3D
CALSCALE:GREGORIAN
BEGIN:VEVENT
DTSTART:20140529T213000Z
DTEND:20140529T230000Z
X-MICROSOFT-CDO-ALLDAYEVENT:FALSE
SUMMARY:Girls Scouts of Eastern Iowa and Western Illinois Ribbon Cutting
DESCRIPTION:The Girl Scouts of Eastern Iowa and Western Illinois\, 2011 2nd Ave. Rock Island\, IL 61201\, will host a ribbon cutting ceremony to celebrate the newly renovated Girl Scout Program Center on Thursday\, May 29th at 4:30pm. The renovated facility is open for girl scout programs\, as well as open to the community for meetings\, retreats and social gatherings.  An open house will follow the ribbon cutting and refreshments will be served at this  time. For more information\, please visit www.girlscoutstoday.org.
X-ALT-DESC;FMTTYPE=text/html:<FONT face=Calibri><P style="MARGIN: 0in 0in 0pt" class=MsoNormal></P><P></FONT></P><FONT face=Calibri><P style="TEXT-TRANSFORM: none\; BACKGROUND-COLOR: rgb(255\,255\,255)\; TEXT-INDENT: 0px\; MARGIN: 0in 0in 0pt\; LETTER-SPACING: normal\; FONT: small/20px Calibri\; WHITE-SPACE: normal\; COLOR: rgb(0\,0\,0)\; WORD-SPACING: 0px\; -webkit-text-stroke-width: 0px" class=MsoNormal>The Girl Scouts of Eastern Iowa and Western Illinois\, 2011 2<SUP style="POSITION: relative\; LINE-HEIGHT: 0\; FONT-SIZE: 10px\; VERTICAL-ALIGN: baseline\; TOP: -0.5em">nd</SUP><SPAN class=Apple-converted-space>&nbsp\;</SPAN>Ave. Rock Island\, IL 61201\, will host a ribbon cutting ceremony to celebrate the newly renovated Girl Scout Program Center on Thursday\, May 29<SUP style="POSITION: relative\; LINE-HEIGHT: 0\; FONT-SIZE: 10px\; VERTICAL-ALIGN: baseline\; TOP: -0.5em">th</SUP><SPAN class=Apple-converted-space>&nbsp\;</SPAN>at 4:30pm.<?xml:namespace prefix = o ns = "urn:schemas-microsoft-com:office:office" /><o:p></o:p></P><P style="TEXT-TRANSFORM: none\; BACKGROUND-COLOR: rgb(255\,255\,255)\; TEXT-INDENT: 0px\; MARGIN: 0in 0in 0pt\; LETTER-SPACING: normal\; FONT: small/20px Calibri\; WHITE-SPACE: normal\; COLOR: rgb(0\,0\,0)\; WORD-SPACING: 0px\; -webkit-text-stroke-width: 0px" class=MsoNormal><o:p>&nbsp\;</o:p></P><P style="TEXT-TRANSFORM: none\; BACKGROUND-COLOR: rgb(255\,255\,255)\; TEXT-INDENT: 0px\; MARGIN: 0in 0in 0pt\; LETTER-SPACING: normal\; FONT: small/20px Calibri\; WHITE-SPACE: normal\; COLOR: rgb(0\,0\,0)\; WORD-SPACING: 0px\; -webkit-text-stroke-width: 0px" class=MsoNormal>The renovated facility is open for girl scout programs\, as well as open to the community for meetings\, retreats and social gatherings.<SPAN>&nbsp\;<SPAN class=Apple-converted-space>&nbsp\;</SPAN></SPAN>An open house will follow the ribbon cutting and refreshments will be served at this<SPAN class=Apple-converted-space>&nbsp\;</SPAN><SPAN>&nbsp\;</SPAN>time.<o:p></o:p></P><P style="TEXT-TRANSFORM: none\; BACKGROUND-COLOR: rgb(255\,255\,255)\; TEXT-INDENT: 0px\; MARGIN: 0in 0in 0pt\; LETTER-SPACING: normal\; FONT: small/20px Calibri\; WHITE-SPACE: normal\; COLOR: rgb(0\,0\,0)\; WORD-SPACING: 0px\; -webkit-text-stroke-width: 0px" class=MsoNormal><o:p>&nbsp\;</o:p></P><P style="TEXT-TRANSFORM: none\; BACKGROUND-COLOR: rgb(255\,255\,255)\; TEXT-INDENT: 0px\; MARGIN: 0in 0in 0pt\; LETTER-SPACING: normal\; FONT: small/20px Calibri\; WHITE-SPACE: normal\; COLOR: rgb(0\,0\,0)\; WORD-SPACING: 0px\; -webkit-text-stroke-width: 0px" class=MsoNormal>For more information\, please visit<SPAN class=Apple-converted-space>&nbsp\;</SPAN><A style="COLOR: rgb(0\,0\,255)\; TEXT-DECORATION: none" href="http://www.girlscoutstoday.org/"><FONT color=#0000ff face="Times New Roman">www.girlscoutstoday.org</FONT></A>.<o:p></o:p></P><P style="TEXT-TRANSFORM: none\; BACKGROUND-COLOR: rgb(255\,255\,255)\; TEXT-INDENT: 0px\; MARGIN: 0in 0in 0pt\; LETTER-SPACING: normal\; FONT: small/20px Calibri\; WHITE-SPACE: normal\; COLOR: rgb(0\,0\,0)\; WORD-SPACING: 0px\; -webkit-text-stroke-width: 0px" class=MsoNormal><o:p>&nbsp\;</o:p></P><P style="TEXT-TRANSFORM: none\; BACKGROUND-COLOR: rgb(255\,255\,255)\; TEXT-INDENT: 0px\; MARGIN: 0in 0in 0pt\; LETTER-SPACING: normal\; FONT: small/20px Calibri\; WHITE-SPACE: normal\; COLOR: rgb(0\,0\,0)\; WORD-SPACING: 0px\; -webkit-text-stroke-width: 0px" class=MsoNormal>&nbsp\;</P></FONT>
LOCATION:Girl Scouts of Eastern IA & Western IL940 Golden Valley Drive Bettendorf\, IA 527221606
UID:e.2843.804
SEQUENCE:3
DTSTAMP:20260422T093826Z
URL:https://member.quadcitieschamber.com/events/details/girls-scouts-of-eastern-iowa-and-western-illinois-ribbon-cutting-05-29-2014-804
END:VEVENT

END:VCALENDAR
