BEGIN:VCALENDAR
VERSION:2.0
PRODID:-//ChamberMaster//Event Calendar 2.0//EN
METHOD:PUBLISH
X-PUBLISHED-TTL:P3D
REFRESH-INTERVAL:P3D
CALSCALE:GREGORIAN
BEGIN:VEVENT
DTSTART:20181125T010000Z
DTEND:20181125T030000Z
X-MICROSOFT-CDO-ALLDAYEVENT:FALSE
SUMMARY:Gold\, Frankincense & Myrrh
DESCRIPTION:A soulful musical depicting the Magi and their quest to find the one prophesied about for centuries.
X-ALT-DESC;FMTTYPE=text/html:A soulful musical depicting the Magi and their quest to find the one prophesied about for centuries.
LOCATION:Adler Theatre 136 E. 3rd Street Davenport\, IA
UID:e.2843.13543
SEQUENCE:3
DTSTAMP:20260423T013426Z
URL:https://member.quadcitieschamber.com/events/details/gold-frankincense-myrrh-13543
END:VEVENT

END:VCALENDAR
