BEGIN:VCALENDAR
VERSION:2.0
PRODID:-//ChamberMaster//Event Calendar 2.0//EN
METHOD:PUBLISH
X-PUBLISHED-TTL:P3D
REFRESH-INTERVAL:P3D
CALSCALE:GREGORIAN
BEGIN:VEVENT
DTSTART:20131108T163000Z
DTEND:20131108T170000Z
X-MICROSOFT-CDO-ALLDAYEVENT:FALSE
SUMMARY:Goodwill Great Cookie Bakery Grand Opening Ribbon Cutting
DESCRIPTION:Goodwill Great Cookies Bakery\, located at 2309 Cumberland Square Dr. in Bettendorf\, is hosting a grand opening ribbon cutting ceremony on Friday\, November 8th at 10:30am.  http://mapq.st/1iimfYo.  The Goodwill Great Cookies Bakery is next door to the Goodwill store.  Goodwill is a not-for-profit organization that helps individuals who face barriers to independence\, lead more independent lives.  All proceeds from the Goodwill stores and the new cookie bakery are put towards that mission.  The bakers work through Goodwill’s program for disadvantage vets. Goodwill of the Heartland is excited to expand its mission in the Quad Cities and to share this new business venture with the community.  For more information\, please visit www.goodwillheartland.org.   Thank you to the annual ribbon cutting sponsor Batteries Plus Bulbs.
X-ALT-DESC;FMTTYPE=text/html:<FONT face=Calibri><P style="MARGIN: 0in 0in 0pt" class=MsoNormal>Goodwill Great Cookies Bakery\, located at 2309 Cumberland Square Dr. in Bettendorf\, is hosting a grand opening ribbon cutting ceremony on <B style="mso-bidi-font-weight: normal">Friday\, November 8<SUP>th</SUP> at 10:30am</B>.<SPAN style="mso-spacerun: yes">&nbsp\; </SPAN><A href="http://mapq.st/1iimfYo"><FONT face="Times New Roman">http://mapq.st/1iimfYo</FONT></A>.<SPAN style="mso-spacerun: yes">&nbsp\; </SPAN>The Goodwill Great Cookies Bakery is next door to the Goodwill store. <?xml:namespace prefix = o ns = "urn:schemas-microsoft-com:office:office" /><o:p></o:p></P><P style="MARGIN: 0in 0in 0pt" class=MsoNormal><o:p>&nbsp\;</o:p></P><P style="MARGIN: 0in 0in 0pt" class=MsoNormal>Goodwill is a not-for-profit organization that helps individuals who face barriers to independence\, lead more independent lives.<SPAN style="mso-spacerun: yes">&nbsp\; </SPAN>All proceeds from the Goodwill stores and the new cookie bakery are put towards that mission.<SPAN style="mso-spacerun: yes">&nbsp\; </SPAN>The bakers work through Goodwill’s program for disadvantage vets.<o:p></o:p></P><P style="MARGIN: 0in 0in 0pt" class=MsoNormal><o:p>&nbsp\;</o:p></P><P style="MARGIN: 0in 0in 0pt" class=MsoNormal>Goodwill of the Heartland is excited to expand its mission in the Quad Cities and to share this new business venture with the community.<SPAN style="mso-spacerun: yes">&nbsp\; </SPAN>For more information\, please visit <A href="http://www.goodwillheartland.org"><FONT face="Times New Roman">www.goodwillheartland.org</FONT></A>.<SPAN style="mso-spacerun: yes">&nbsp\; </SPAN><SPAN style="mso-spacerun: yes">&nbsp\;</SPAN><o:p></o:p></P><P>Thank you to the annual ribbon cutting sponsor Batteries Plus Bulbs. </FONT></P>
LOCATION:Goodwill of the Heartland2333 Cumberland Square Dr. Bettendorf\, IA 52722
UID:e.2843.739
SEQUENCE:3
DTSTAMP:20260421T220805Z
URL:https://member.quadcitieschamber.com/events/details/goodwill-great-cookie-bakery-grand-opening-ribbon-cutting-11-08-2013-739
END:VEVENT

END:VCALENDAR
