BEGIN:VCALENDAR
VERSION:2.0
PRODID:-//ChamberMaster//Event Calendar 2.0//EN
METHOD:PUBLISH
X-PUBLISHED-TTL:P3D
REFRESH-INTERVAL:P3D
CALSCALE:GREGORIAN
BEGIN:VEVENT
DTSTART:20121109T160000Z
DTEND:20121109T163000Z
X-MICROSOFT-CDO-ALLDAYEVENT:FALSE
SUMMARY:Goodwill of the Heartland - Goodwill Holiday Store Ribbon Cutting
DESCRIPTION:Please help the Goodwill of the Heartland celebrate its Goodwill Holiday Store with a ribbon cutting on Friday\, November 9th at 10:00am.  Located at 4500 16th Street\, Moline – South Park Mall\, by Old Navy. ·         The Holiday Store allows Goodwill to showcase its great merchandise·         The Holiday Store will be open standard mall hours\, including early opening on “Black Friday”·         Proceeds from the Holiday Store sales will support Goodwill programs\, which help people with barriers to independence For more information regarding the Goodwill of the Heartland\, please visit www.goodwillheartland.org
X-ALT-DESC;FMTTYPE=text/html:<P style="MARGIN: 0in 0in 0pt" class=MsoNormal><FONT face=Calibri>Please help the Goodwill of the Heartland celebrate its Goodwill Holiday Store with a ribbon cutting on Friday\, November 9<SUP>th</SUP> at 10:00am.<SPAN style="mso-spacerun: yes">&nbsp\; </SPAN>Located at 4500 16<SUP>th</SUP> Street\, Moline – South Park Mall\, by Old Navy.</FONT></P><P style="MARGIN: 0in 0in 0pt" class=MsoNormal><?xml:namespace prefix = o ns = "urn:schemas-microsoft-com:office:office" /><o:p><FONT face=Calibri>&nbsp\;</FONT></o:p></P><P style="TEXT-INDENT: -0.25in\; MARGIN: 0in 0in 0pt 0.5in\; mso-list: l0 level1 lfo1" class=MsoListParagraph><SPAN style="FONT-FAMILY: Symbol\; mso-fareast-font-family: Symbol\; mso-bidi-font-family: Symbol"><SPAN style="mso-list: Ignore">·<SPAN style="FONT: 7pt 'Times New Roman'">&nbsp\;&nbsp\;&nbsp\;&nbsp\;&nbsp\;&nbsp\;&nbsp\;&nbsp\; </SPAN></SPAN></SPAN><FONT face=Calibri>The Holiday Store allows Goodwill to showcase its great merchandise</FONT></P><P style="TEXT-INDENT: -0.25in\; MARGIN: 0in 0in 0pt 0.5in\; mso-list: l0 level1 lfo1" class=MsoListParagraph><SPAN style="FONT-FAMILY: Symbol\; mso-fareast-font-family: Symbol\; mso-bidi-font-family: Symbol"><SPAN style="mso-list: Ignore">·<SPAN style="FONT: 7pt 'Times New Roman'">&nbsp\;&nbsp\;&nbsp\;&nbsp\;&nbsp\;&nbsp\;&nbsp\;&nbsp\; </SPAN></SPAN></SPAN><FONT face=Calibri>The Holiday Store will be open standard mall hours\, including early opening on “Black Friday”</FONT></P><P style="TEXT-INDENT: -0.25in\; MARGIN: 0in 0in 0pt 0.5in\; mso-list: l0 level1 lfo1" class=MsoListParagraph><SPAN style="FONT-FAMILY: Symbol\; mso-fareast-font-family: Symbol\; mso-bidi-font-family: Symbol"><SPAN style="mso-list: Ignore">·<SPAN style="FONT: 7pt 'Times New Roman'">&nbsp\;&nbsp\;&nbsp\;&nbsp\;&nbsp\;&nbsp\;&nbsp\;&nbsp\; </SPAN></SPAN></SPAN><FONT face=Calibri>Proceeds from the Holiday Store sales will support Goodwill programs\, which help people with barriers to independence</FONT></P><P style="MARGIN: 0in 0in 0pt" class=MsoNormal><o:p><FONT face=Calibri>&nbsp\;</FONT></o:p></P><P style="MARGIN: 0in 0in 0pt" class=MsoNormal><FONT face=Calibri>For more information regarding the Goodwill of the Heartland\, please visit </FONT><A href="http://www.goodwillheartland.org">www.goodwillheartland.org</A><FONT face=Calibri> </FONT></P><DIV style="FONT-FAMILY: Arial">&nbsp\;</DIV>
LOCATION:South Park Mall4500 16th Street Moline\, IL 61265
UID:e.2843.471
SEQUENCE:3
DTSTAMP:20260421T153039Z
URL:https://member.quadcitieschamber.com/events/details/goodwill-of-the-heartland-goodwill-holiday-store-ribbon-cutting-11-09-2012-471
END:VEVENT

END:VCALENDAR
