BEGIN:VCALENDAR
VERSION:2.0
PRODID:-//ChamberMaster//Event Calendar 2.0//EN
METHOD:PUBLISH
X-PUBLISHED-TTL:P3D
REFRESH-INTERVAL:P3D
CALSCALE:GREGORIAN
BEGIN:VEVENT
DTSTART:20130829T160000Z
DTEND:20130829T163000Z
X-MICROSOFT-CDO-ALLDAYEVENT:FALSE
SUMMARY:Goodwill of the Heartland - Helms Career Center Ribbon Cutting
DESCRIPTION:Please join Goodwill of the Heartland in celebrating the new Helms Career Center on Thursday\, August 29th at 11:00 a.m.-  Located at the Moline Goodwill Store\, 4805 22nd Avenue  Goodwill repurposed space in its Moline Store to create the Helms Career Center where they offer computers that guests can use for resume writing\, cover letters and job searches. They also offer job seeking assistance. All services are free to guests. Proceeds from the Goodwill store support the operating costs of the Center.  Please visit www.goodwillheartland.org to learn more.
X-ALT-DESC;FMTTYPE=text/html:<FONT face=Calibri><P style="MARGIN: 0in 0in 0pt" class=MsoNormal>Please join Goodwill of the Heartland in celebrating the new Helms Career Center on <B style="mso-bidi-font-weight: normal">Thursday\, August 29<SUP>th</SUP> at 11:00 a.m.- &nbsp\;</B>Located at the Moline Goodwill Store\, 4805 22<SUP>nd</SUP> Avenue <?xml:namespace prefix = o ns = "urn:schemas-microsoft-com:office:office" /><o:p></o:p></P><P style="MARGIN: 0in 0in 0pt" class=MsoNormal><o:p>&nbsp\;</o:p></P><P style="MARGIN: 0in 0in 0pt" class=MsoNormal>Goodwill repurposed space in its Moline Store to create the Helms Career Center where they offer computers that guests can use for resume writing\, cover letters and job searches. They also offer job seeking assistance. All services are free to guests. Proceeds from the Goodwill store support the operating costs of the Center. <o:p></o:p></P><P style="MARGIN: 0in 0in 0pt" class=MsoNormal><o:p>&nbsp\;</o:p></P><P style="MARGIN: 0in 0in 0pt" class=MsoNormal>Please visit <A href="http://www.goodwillheartland.org"><FONT face="Times New Roman">www.goodwillheartland.org</FONT></A> to learn more. <o:p></o:p></P><P style="MARGIN: 0in 0in 0pt" class=MsoNormal></FONT>&nbsp\;</P>
LOCATION:Goodwill of the Heartland4805 22nd Avenue Moline\, IL 61265
UID:e.2843.650
SEQUENCE:3
DTSTAMP:20260421T171454Z
URL:https://member.quadcitieschamber.com/events/details/goodwill-of-the-heartland-helms-career-center-ribbon-cutting-08-29-2013-650
END:VEVENT

END:VCALENDAR
