BEGIN:VCALENDAR
VERSION:2.0
PRODID:-//ChamberMaster//Event Calendar 2.0//EN
METHOD:PUBLISH
X-PUBLISHED-TTL:P3D
REFRESH-INTERVAL:P3D
CALSCALE:GREGORIAN
BEGIN:VEVENT
DTSTART:20121026T161500Z
DTEND:20121026T164500Z
X-MICROSOFT-CDO-ALLDAYEVENT:FALSE
SUMMARY:Goodwill of the Heartland Ribbon Cutting
DESCRIPTION:Please help the Goodwill of the Heartland celebrate their new location with a ribbon cutting on Friday\, October 26th at 11:15am.  Located at 805 W. 35th Street in Davenport – south side of 35th Street.  They will have an Open House from 11:30am to 1:30pm. The site offers day habilitation services for individuals with disabilities\; site serves unemployed veterans\; this division received a US Labor Dept. grant to help homeless vets prepare to work and find a job.  The grant projects serving 146 vets per year for the next three years. For more information\, visit www.goodwillheartland.org
X-ALT-DESC;FMTTYPE=text/html:<P style="MARGIN: 0in 0in 0pt" class=MsoNormal><FONT face=Calibri>Please help the Goodwill of the Heartland celebrate their new location with a ribbon cutting on Friday\, October 26<SUP>th</SUP> at 11:15am.<SPAN style="mso-spacerun: yes">&nbsp\; </SPAN>Located at 805 W. 35<SUP>th</SUP> Street in Davenport – south side of 35<SUP>th</SUP> Street.<SPAN style="mso-spacerun: yes">&nbsp\; </SPAN>They will have an Open House from 11:30am to 1:30pm.</FONT></P><P style="MARGIN: 0in 0in 0pt" class=MsoNormal><?xml:namespace prefix = o ns = "urn:schemas-microsoft-com:office:office" /><o:p><FONT face=Calibri>&nbsp\;</FONT></o:p></P><P style="MARGIN: 0in 0in 0pt" class=MsoNormal><FONT face=Calibri>The site offers day habilitation services for individuals with disabilities\; site serves unemployed veterans\; this division received a US Labor Dept. grant to help homeless vets prepare to work and find a job.<SPAN style="mso-spacerun: yes">&nbsp\; </SPAN>The grant projects serving 146 vets per year for the next three years.</FONT></P><P style="MARGIN: 0in 0in 0pt" class=MsoNormal><o:p><FONT face=Calibri>&nbsp\;</FONT></o:p></P><P style="MARGIN: 0in 0in 0pt" class=MsoNormal><FONT face=Calibri>For more information\, visit </FONT><A href="http://www.goodwillheartland.org"><FONT face="Times New Roman">www.goodwillheartland.org</FONT></A></P><DIV>&nbsp\;</DIV>
LOCATION:Goodwill of the Heartland805 W. 35th Street Davenport\, IA
UID:e.2843.458
SEQUENCE:3
DTSTAMP:20260421T184102Z
URL:https://member.quadcitieschamber.com/events/details/goodwill-of-the-heartland-ribbon-cutting-10-26-2012-458
END:VEVENT

END:VCALENDAR
