BEGIN:VCALENDAR
VERSION:2.0
PRODID:-//ChamberMaster//Event Calendar 2.0//EN
METHOD:PUBLISH
X-PUBLISHED-TTL:P3D
REFRESH-INTERVAL:P3D
CALSCALE:GREGORIAN
BEGIN:VEVENT
DTSTART:20210120T193000Z
DTEND:20210120T203000Z
X-MICROSOFT-CDO-ALLDAYEVENT:FALSE
SUMMARY:Google My Business: Drive Sales & Improve Leads
DESCRIPTION:Event Overview\n\n \n\nHow you have your Google My Business account set up has a direct impact on how your organization shows up in Google results. A well-configured profile gives you the ability to differentiate yourself in Google and drive more traffic to your site. The proper setup of your Google My Business account is a vital part of your national and local SEO strategy.\n\n \n\nAgenda\n\n \n\n45-minute presentation\n\n	Why Google My Business?\n	How it affects local search.\n	How to set up and optimize your account with analytics\, photos\, events\, video\, keywords\, Q&A\, reviews\, hours\, special alerts\, and map.\n	Understand Google My Business analytics to interpret the impact of your strategies.\n\n15-minute Q&A and interactive chat\n\n \n\nOur Presenter\n\n \n\nNeal Rabogliatti has more than 25 years of experience and is proficient at project management\, client relationship management\, SEO\, digital and video marketing\, Google analytics\, conversion rate optimization\, content development\, and lead generation. Starting with a sales and marketing background\, Neal worked for several web development and marketing agencies and currently teaches SEO at Iowa State University through CIRAS. Neal has helped more than 2000 clients ranging from startups and local businesses to Fortune 500 corporations and the Federal Government.\n\n \n\nWho Should Attend\n\n \n\nLeadership\, Business Development\, marketing\, sales\, and owners who want to improve their digital presence\, and anyone that wants to understand Google.\n\n \n\nRegister here\, https://www.eventbrite.com/e/google-my-business-drive-sales-improve-leads-tickets-133761912481
X-ALT-DESC;FMTTYPE=text/html:<strong>Event Overview</strong><br />\n&nbsp\;<br />\nHow you have your Google My Business account set up has a direct impact on how your organization shows up in Google results. A well-configured profile gives you the ability to differentiate yourself in Google and drive more traffic to your site. The proper setup of your Google My Business account is a vital part of your national and local SEO strategy.<br />\n&nbsp\;<br />\n<strong>Agenda</strong><br />\n&nbsp\;<br />\n<strong>45-minute presentation</strong>\n<ol>\n	<li style="text-align:justify">Why Google My Business?</li>\n	<li style="text-align:justify">How it affects local search.</li>\n	<li style="text-align:justify">How to set up and optimize your account with analytics\, photos\, events\, video\, keywords\, Q&amp\;A\, reviews\, hours\, special alerts\, and map.</li>\n	<li style="text-align:justify">Understand Google My Business analytics to interpret the impact of your strategies.</li>\n</ol>\n<strong>15-minute Q&amp\;A and interactive chat</strong><br />\n&nbsp\;<br />\n<strong>Our Presenter</strong><br />\n&nbsp\;<br />\nNeal Rabogliatti has more than 25 years of experience and is <span style="color:black">proficient at project management\, client relationship management\, SEO\, digital and video marketing\, Google analytics\, conversion rate optimization\, content development\, and lead generation. </span>Starting with a sales and marketing background\, Neal worked for several web development and marketing agencies and currently teaches SEO at Iowa State University through CIRAS. Neal has helped more than 2000 clients ranging from startups and local businesses to Fortune 500 corporations and the Federal Government.<br />\n&nbsp\;<br />\n<strong>Who Should Attend</strong><br />\n&nbsp\;<br />\nLeadership\, Business Development\, marketing\, sales\, and owners who want to improve their digital presence\, and anyone that wants to understand Google.<br />\n&nbsp\;<br />\n<strong>Register here\, https://www.eventbrite.com/e/google-my-business-drive-sales-improve-leads-tickets-133761912481</strong>
LOCATION:Virtual Event. GoToMeeting information will be provided via email after registration. Register here\, https://www.eventbrite.com/e/google-my-business-drive-sales-improve-leads-tickets-133761912481
UID:e.2843.18412
SEQUENCE:3
DTSTAMP:20260421T062630Z
URL:https://member.quadcitieschamber.com/events/details/google-my-business-drive-sales-improve-leads-18412
END:VEVENT

END:VCALENDAR
