BEGIN:VCALENDAR
VERSION:2.0
PRODID:-//ChamberMaster//Event Calendar 2.0//EN
METHOD:PUBLISH
X-PUBLISHED-TTL:P3D
REFRESH-INTERVAL:P3D
CALSCALE:GREGORIAN
BEGIN:VEVENT
DTSTART:20130314T133000Z
DTEND:20130314T170000Z
X-MICROSOFT-CDO-ALLDAYEVENT:FALSE
SUMMARY:Government Contracting Training Session
DESCRIPTION:The Quad Cities Chamber is now partnering with our local Procurement Technical Assistance Centers (PTAC) to offer regularly scheduled sessions on the basics of government contracting.Hundreds of companies in our region\, many of them with fewer than 40 employees are doing business with the government on local\, state or federal levels. Don't miss your chance to better understand how to hone in on opportunities and leverage your business status.    Sessions 8:30 - 10:00 a.m. - Fast Track to Government Contracting & Fundamentals 10:15 - 11:15 a.m. - Market Research & Marketing for Government Contracting11:15 a.m. - 12:00 p.m. - Community Government Contracting Roundtable Discussion  To register\, please click here.  For more information\, please contact Vicky Miller at millerv@bhc.edu
X-ALT-DESC;FMTTYPE=text/html:<DIV><FONT size=2 face=Verdana><FONT size=2 face=Tahoma><SPAN style="FONT-FAMILY: 'Calibri'\,'sans-serif'\; COLOR: black\; FONT-SIZE: 12pt\; mso-fareast-font-family: Calibri\; mso-fareast-theme-font: minor-latin\; mso-bidi-font-family: 'Times New Roman'\; mso-ansi-language: EN-US\; mso-fareast-language: EN-US\; mso-bidi-language: AR-SA"><FONT size=2 face=Tahoma>The Quad Cities Chamber is now partnering with our local Procurement Technical Assistance Centers (PTAC) to offer regularly scheduled sessions on the basics of&nbsp\;government contracting.Hundreds of companies&nbsp\;in our region\, many of&nbsp\;them with fewer than 40 employees are doing business with the government on local\, state or federal&nbsp\;levels. Don't&nbsp\;miss your chance to&nbsp\;better understand how to hone in on opportunities and leverage your business status.&nbsp\;&nbsp\;&nbsp\;</FONT></SPAN></DIV><DIV><DIV><DIV><STRONG><U><FONT size=2 face=Tahoma></FONT></U></STRONG>&nbsp\;</DIV><DIV><STRONG><U><FONT size=2 face=Tahoma>Sessions</FONT></U></STRONG></DIV><DIV><FONT size=2 face=Tahoma></FONT>&nbsp\;</DIV><DIV><FONT size=2 face=Tahoma>8:30 - 10:00 a.m. - Fast Track to Government Contracting &amp\; Fundamentals </FONT></DIV><DIV><FONT size=2 face=Tahoma>10:15 - 11:15 a.m. - Market Research &amp\; Marketing for Government Contracting</FONT></DIV><DIV><FONT size=2 face=Tahoma>11:15 a.m. - 12:00 p.m. - Community Government Contracting Roundtable Discussion </FONT></DIV><DIV><FONT size=2 face=Tahoma></FONT>&nbsp\;</DIV><DIV><FONT size=2><FONT face=Tahoma>To register\, please </FONT><A style="COLOR: blue\; TEXT-DECORATION: underline" title="" dataFld=0:0 href="http://events.constantcontact.com/register/event?llr=brbryhfab&amp\;oeidk=a07e7291i0fb5f13326" target=_self><FONT face=Tahoma>click here</FONT></A><FONT face=Tahoma>. </FONT></FONT></DIV><DIV><FONT size=2 face=Tahoma></FONT>&nbsp\;</DIV><DIV><FONT size=2 face=Tahoma>For more information\, please contact Vicky Miller&nbsp\;at <A href="mailto:millerv@bhc.edu">millerv@bhc.edu</A>&nbsp\;</FONT><FONT face=Tahoma> </FONT></DIV></FONT></DIV></FONT></DIV>
LOCATION:Black Hawk College / IL PTAC4703 16th Street\, Ste G Moline\, IL 61265
UID:e.2843.456
SEQUENCE:3
DTSTAMP:20260421T091011Z
URL:https://member.quadcitieschamber.com/events/details/government-contracting-training-session-03-14-2013-456
END:VEVENT

END:VCALENDAR
