BEGIN:VCALENDAR
VERSION:2.0
PRODID:-//ChamberMaster//Event Calendar 2.0//EN
METHOD:PUBLISH
X-PUBLISHED-TTL:P3D
REFRESH-INTERVAL:P3D
CALSCALE:GREGORIAN
BEGIN:VEVENT
DTSTART:20090414T050000Z
DTEND:20090414T050000Z
X-MICROSOFT-CDO-ALLDAYEVENT:FALSE
SUMMARY:Government Contracting with Vicky Miller
DESCRIPTION:Government Contracting with Vicky Miller
X-ALT-DESC;FMTTYPE=text/html:Government Contracting with Vicky Miller
LOCATION:
UID:e.2843.3692
SEQUENCE:3
DTSTAMP:20260424T104343Z
URL:https://member.quadcitieschamber.com/events/details/government-contracting-with-vicky-miller-04-14-2009-3692
END:VEVENT

END:VCALENDAR
