BEGIN:VCALENDAR
VERSION:2.0
PRODID:-//ChamberMaster//Event Calendar 2.0//EN
METHOD:PUBLISH
X-PUBLISHED-TTL:P3D
REFRESH-INTERVAL:P3D
CALSCALE:GREGORIAN
BEGIN:VEVENT
DTSTART:20130125T160000Z
DTEND:20130214T230000Z
X-MICROSOFT-CDO-ALLDAYEVENT:FALSE
SUMMARY:Grand Canyon Adventure 3D: River at Risk
DESCRIPTION:From the makers of Everest comes a powerful and cautionary film about the threat to one of America'smost iconic landscapes. GRAND CANYON ADVENTURE: RIVER AT RISK follows the great Colorado River as it reveals the most pressing environmental story of our time - the world's growing shortage of freshwater. Join environmental advocates Robert F. Kennedy\, Jr. and Wade Davis as they set out with theirdaughters\, traveling deep into the Grand Canyon and down the river that runs through it. Your pulsewill quicken as you are invited to join this thrilling ride downriver through raging rapids and breathtaking canyons. With stunning photography and sweeping aerial shots the renowned filmmakers capture all the majesty of the Colorado and The Grand Canyon in the largest film format ever made.
X-ALT-DESC;FMTTYPE=text/html:From the makers of Everest comes a powerful and cautionary film about the threat to one of America'smost iconic landscapes. GRAND CANYON ADVENTURE: RIVER AT RISK follows the great Colorado River as it reveals the most pressing environmental story of our time - the world's growing shortage of freshwater. Join environmental advocates Robert F. Kennedy\, Jr. and Wade Davis as they set out with theirdaughters\, traveling deep into the Grand Canyon and down the river that runs through it. Your pulsewill quicken as you are invited to join this thrilling ride downriver through raging rapids and breathtaking canyons. With stunning photography and sweeping aerial shots the renowned filmmakers capture all the majesty of the Colorado and The Grand Canyon in the largest film format ever made.
LOCATION:Putnam Museum1717 West 12th Street Davenport\, IA 52804
UID:e.2843.83
SEQUENCE:3
DTSTAMP:20260421T104909Z
URL:https://member.quadcitieschamber.com/events/details/grand-canyon-adventure-3d-river-at-risk-01-25-2013-83
END:VEVENT

END:VCALENDAR
