BEGIN:VCALENDAR
VERSION:2.0
PRODID:-//ChamberMaster//Event Calendar 2.0//EN
METHOD:PUBLISH
X-PUBLISHED-TTL:P3D
REFRESH-INTERVAL:P3D
CALSCALE:GREGORIAN
BEGIN:VEVENT
DTSTART:20111118T220000Z
DTEND:20111118T223000Z
X-MICROSOFT-CDO-ALLDAYEVENT:FALSE
SUMMARY:Grand Opening and Ribbon Cutting
DESCRIPTION:Hungry Hobo is opening a new location!  Please join us in celebrating the grand opening and ribbon cutting on Friday\, November 18th at 4pm.   This is the same location as the River View Dental Specialists – as you’re heading into LeClaire\, it’s just past the I-80 bridge\, on the right side.
X-ALT-DESC;FMTTYPE=text/html:<DIV><FONT face=Calibri><P style="MARGIN: 0in 0in 0pt" class=MsoNormal>Hungry Hobo is opening a new location!<SPAN style="mso-spacerun: yes">&nbsp\; </SPAN>Please join us in celebrating the grand opening and ribbon cutting on Friday\, November 18<SUP>th</SUP> at 4pm.<SPAN style="mso-spacerun: yes">&nbsp\;&nbsp\; </SPAN>This is the same location as the River View Dental Specialists – as you’re heading into LeClaire\, it’s just past the I-80 bridge\, on the right side.</P></FONT></DIV>
LOCATION:The Hungry Hobo1109 Canal Shore Drive LeClaire\, IA
UID:e.2843.303
SEQUENCE:3
DTSTAMP:20260422T111340Z
URL:https://member.quadcitieschamber.com/events/details/grand-opening-and-ribbon-cutting-11-18-2011-303
END:VEVENT

END:VCALENDAR
