BEGIN:VCALENDAR
VERSION:2.0
PRODID:-//ChamberMaster//Event Calendar 2.0//EN
METHOD:PUBLISH
X-PUBLISHED-TTL:P3D
REFRESH-INTERVAL:P3D
CALSCALE:GREGORIAN
BEGIN:VEVENT
DTSTART:20190307T223000Z
DTEND:20190307T230000Z
X-MICROSOFT-CDO-ALLDAYEVENT:FALSE
SUMMARY:Grand Opening of Bartlett Performing Arts Center - Moline High School
DESCRIPTION:A Grand Opening of the Bartlett Performing Arts Center will take place on Thursday\, March 7 at 4:30 pm at Moline High School.
X-ALT-DESC;FMTTYPE=text/html:A Grand Opening of the Bartlett Performing Arts Center will take place on Thursday\, March 7 at 4:30 pm at Moline High School.<br />\n&nbsp\;
LOCATION:3600 Avenue of the Cities Moline\, IL 61265
UID:e.2843.13807
SEQUENCE:3
DTSTAMP:20260422T182911Z
URL:https://member.quadcitieschamber.com/events/details/grand-opening-of-bartlett-performing-arts-center-moline-high-school-13807
END:VEVENT

END:VCALENDAR
