BEGIN:VCALENDAR
VERSION:2.0
PRODID:-//ChamberMaster//Event Calendar 2.0//EN
METHOD:PUBLISH
X-PUBLISHED-TTL:P3D
REFRESH-INTERVAL:P3D
CALSCALE:GREGORIAN
BEGIN:VEVENT
DTSTART:20111115T230000Z
DTEND:20111115T233000Z
X-MICROSOFT-CDO-ALLDAYEVENT:FALSE
SUMMARY:Grand Re-opening and Ribbon Cutting
DESCRIPTION:Granite City Food & Brewery is celebrating its Grand Re-Opening on Tuesday\, November 15th from 5pm to 7pm\, with a ribbon cutting at 5pm.  They are debuting their remodeled bar and Private Dining Room.
X-ALT-DESC;FMTTYPE=text/html:<DIV><P style="MARGIN: 0in 0in 0pt" class=MsoNormal><FONT face=Calibri>Granite City Food &amp\; Brewery is celebrating its Grand Re-Opening on Tuesday\, November 15<SUP>th</SUP> from 5pm to 7pm\, with a ribbon cutting at 5pm.<SPAN style="mso-spacerun: yes">&nbsp\; </SPAN>They are debuting their remodeled bar and Private Dining Room.</FONT></P><P style="MARGIN: 0in 0in 0pt" class=MsoNormal><?xml:namespace prefix = o ns = "urn:schemas-microsoft-com:office:office" /><o:p><FONT face=Calibri>&nbsp\;</FONT></o:p></P><SPAN style="FONT-FAMILY: 'Calibri'\,'sans-serif'\; FONT-SIZE: 11pt\; mso-fareast-font-family: 'Times New Roman'\; mso-bidi-font-family: 'Times New Roman'\; mso-ansi-language: EN-US\; mso-fareast-language: EN-US\; mso-bidi-language: AR-SA"></SPAN></DIV>
LOCATION:Granite City Food & Brewery5270 Utica Ridge Rd. Davenport\, IA 52807
UID:e.2843.292
SEQUENCE:3
DTSTAMP:20260422T112621Z
URL:https://member.quadcitieschamber.com/events/details/grand-re-opening-and-ribbon-cutting-11-15-2011-292
END:VEVENT

END:VCALENDAR
