BEGIN:VCALENDAR
VERSION:2.0
PRODID:-//ChamberMaster//Event Calendar 2.0//EN
METHOD:PUBLISH
X-PUBLISHED-TTL:P3D
REFRESH-INTERVAL:P3D
CALSCALE:GREGORIAN
BEGIN:VEVENT
DTSTART:20190819T203000Z
DTEND:20190819T210000Z
X-MICROSOFT-CDO-ALLDAYEVENT:FALSE
SUMMARY:Granite City Brewery 20 Year Anniversary Celebration
DESCRIPTION:Granite City Brewery will host a 20 Year Anniversary Celebration on Monday\, August 19\, at 3:30 pm. Beverages and hors d'oeuvres will be served.
X-ALT-DESC;FMTTYPE=text/html:<span style="font-size:16px\;"><span style="font-family:arial\;">Granite City Brewery will host a 20 Year Anniversary Celebration on Monday\, August 19\, at 3:30 pm. Beverages and hors d&rsquo\;oeuvres will be served.</span></span>
LOCATION:5270 Utica Ridge Road Davenport\, IA 52807
UID:e.2843.15517
SEQUENCE:3
DTSTAMP:20260422T100821Z
URL:https://member.quadcitieschamber.com/events/details/granite-city-brewery-20-year-anniversary-celebration-15517
END:VEVENT

END:VCALENDAR
