BEGIN:VCALENDAR
VERSION:2.0
PRODID:-//ChamberMaster//Event Calendar 2.0//EN
METHOD:PUBLISH
X-PUBLISHED-TTL:P3D
REFRESH-INTERVAL:P3D
CALSCALE:GREGORIAN
BEGIN:VEVENT
DTSTART:20131216T190000Z
DTEND:20131216T193000Z
X-MICROSOFT-CDO-ALLDAYEVENT:FALSE
SUMMARY:Griggs Music 110 Year Anniversary Ribbon Cutting
DESCRIPTION:Griggs Music\, located at 3849 Brady St. Davenport\, IA 52806\, will be celebrating their 110th year in business on Monday\, December 16th  at 1:00pm.  http://mapq.st/IFuOBN. Griggs Music provides one of the area's largest selections of musical instruments and related accessories for musicians of every type and interest.  From band and orchestra to guitars and amps\, full service repairs to sound installation\, Griggs Music has it all.  Their knowledgeable staff can quickly help you find what you are looking for and let you get on to more important things\, like making music. For more information\, please visit www.griggsmusic.com.
X-ALT-DESC;FMTTYPE=text/html:<FONT face=Calibri><P style="MARGIN: 0in 0in 0pt" class=MsoNormal>Griggs Music\, located at <B style="mso-bidi-font-weight: normal">3849 Brady St. Davenport\, IA 52806</B>\, will be celebrating their 110<SUP>th</SUP> year in business on Monday\, December 16<SUP>th</SUP> <SPAN style="mso-spacerun: yes">&nbsp\;</SPAN>at 1:00pm.<SPAN style="mso-spacerun: yes">&nbsp\; </SPAN><A href="http://mapq.st/IFuOBN"><FONT face="Times New Roman">http://mapq.st/IFuOBN</FONT></A>.<?xml:namespace prefix = o ns = "urn:schemas-microsoft-com:office:office" /><o:p></o:p></P><P style="MARGIN: 0in 0in 0pt" class=MsoNormal><o:p>&nbsp\;</o:p></P><P style="MARGIN: 0in 0in 0pt" class=MsoNormal>Griggs Music provides one of the area's largest selections of musical instruments and related accessories for musicians of every type and interest.<SPAN style="mso-spacerun: yes">&nbsp\; </SPAN>From band and orchestra to guitars and amps\, full service repairs to sound installation\, Griggs Music has it all.<SPAN style="mso-spacerun: yes">&nbsp\; </SPAN>Their knowledgeable staff can quickly help you find what you are looking for and let you get on to more important things\, like making music.<o:p></o:p></P><P style="MARGIN: 0in 0in 0pt" class=MsoNormal><o:p>&nbsp\;</o:p></P><P style="MARGIN: 0in 0in 0pt" class=MsoNormal>For more information\, please visit <A href="http://www.griggsmusic.com"><FONT face="Times New Roman">www.griggsmusic.com</FONT></A>.<SPAN style="mso-spacerun: yes">&nbsp\; </SPAN><o:p></o:p></P><P style="MARGIN: 0in 0in 0pt" class=MsoNormal><o:p>&nbsp\;</o:p></P>&nbsp\;<P></P><P style="MARGIN: 0in 0in 0pt" class=MsoNormal></FONT>&nbsp\;</P><P>&nbsp\;</P>
LOCATION:Griggs Music\, Inc.3849 Brady St. Davenport\, IA 52806
UID:e.2843.761
SEQUENCE:3
DTSTAMP:20260421T235434Z
URL:https://member.quadcitieschamber.com/events/details/griggs-music-110-year-anniversary-ribbon-cutting-12-16-2013-761
END:VEVENT

END:VCALENDAR
