BEGIN:VCALENDAR
VERSION:2.0
PRODID:-//ChamberMaster//Event Calendar 2.0//EN
METHOD:PUBLISH
X-PUBLISHED-TTL:P3D
REFRESH-INTERVAL:P3D
CALSCALE:GREGORIAN
BEGIN:VEVENT
DTSTART:20170823T150000Z
DTEND:20170823T153000Z
X-MICROSOFT-CDO-ALLDAYEVENT:FALSE
SUMMARY:Groundbreaking - Bettendorf Lofts (Twin Bridges Project)
DESCRIPTION:On Wednesday\, August 23 at 10:00am a groundbreaking ceremony will be held to mark the start of construction on downtown Bettendorf's first upscale apartment building   Bettendorf Lofts. Opening in the summer/fall of 2018\, the pet-friendly urban lofts will feature spacious balconies\, in-unit laundry\, Class A finishes\, covered parking\, amazing river views\, a pool\, gym\, rooftop deck\, and community room. \n\n \n\nVisit their website for more information!
X-ALT-DESC;FMTTYPE=text/html:<span style="font-size:14px\;"><span style="font-family:arial\;">On Wednesday\, August 23 at 10:00am a groundbreaking ceremony will be held to mark the start of construction on downtown Bettendorf&rsquo\;s first upscale apartment building &ndash\; Bettendorf Lofts. <span style="background-image:initial\;background-position:initial\;background-size:initial\;background-repeat:initial\;background-attachment:initial\;background-origin:initial\;background-clip:initial\;">Opening in the summer/fall of 2018\, the pet-friendly urban lofts will feature spacious balconies\, in-unit laundry\, Class A finishes\, covered parking\, amazing river views\, a pool\, gym\, rooftop deck\, and community room.&nbsp\;</span><br />\n&nbsp\;<br />\n<span style="background-image:initial\;background-position:initial\;background-size:initial\;background-repeat:initial\;background-attachment:initial\;background-origin:initial\;background-clip:initial\;"><a href="http://bettendorflofts.com/">Visit their website</a> for more information!&nbsp\;</span></span></span>
LOCATION:221 15th St. Bettendorf\, IA 52722
UID:e.2843.6354
SEQUENCE:3
DTSTAMP:20260423T232026Z
URL:https://member.quadcitieschamber.com/events/details/groundbreaking-bettendorf-lofts-twin-bridges-project-6354
END:VEVENT

END:VCALENDAR
