BEGIN:VCALENDAR
VERSION:2.0
PRODID:-//ChamberMaster//Event Calendar 2.0//EN
METHOD:PUBLISH
X-PUBLISHED-TTL:P3D
REFRESH-INTERVAL:P3D
CALSCALE:GREGORIAN
BEGIN:VEVENT
DTSTART:20180725T150000Z
DTEND:20180725T153000Z
X-MICROSOFT-CDO-ALLDAYEVENT:FALSE
SUMMARY:Groundbreaking - Cambria Hotel Bettendorf Quad Cities
DESCRIPTION:Frontier Hospitality Group will host a groundbreaking ceremony on Wednesday\, July 25 at 10:00am to mark the start of the construction of a new upscale lodging option\, Cambria Hotel Bettendorf Quad Cities.\n\nThe site is located at 5061 Competition Dr. Bettendorf\, IA 52722 (renamed from Bettplex Dr.)\n\n \n\n*Site is located at the TBK Sports Complex toward the south east corner. Near cross roads of Competition Drive (renamed from Bettplex Drive) and Championship Drive.
X-ALT-DESC;FMTTYPE=text/html:<span style="font-family:arial\,sans-serif\;">Frontier Hospitality Group will host a groundbreaking ceremony on Wednesday\, July 25 at 10:00am to mark the start of the <span style="color:black\;">construction of a new upscale lodging option\, Cambria Hotel Bettendorf Quad Cities.</span></span><br />\n<span style="color:black\;"><span style="font-family:arial\,sans-serif\;">The site is located at 5061 Competition Dr. Bettendorf\, IA 52722 (renamed from Bettplex Dr.)</span></span><br />\n&nbsp\;<br />\n<span style="font-family:arial\,sans-serif\;">*Site is located at the TBK Sports Complex toward the south east corner. Near cross roads of Competition Drive (renamed from Bettplex Drive) and Championship Drive.</span><br />\n<br />\n&nbsp\;
LOCATION:5061 Competition Dr. (renamed from Bettplex Dr.) Bettendorf\, IA 52722
UID:e.2843.13344
SEQUENCE:3
DTSTAMP:20260423T091401Z
URL:https://member.quadcitieschamber.com/events/details/groundbreaking-cambria-hotel-bettendorf-quad-cities-13344
END:VEVENT

END:VCALENDAR
