BEGIN:VCALENDAR
VERSION:2.0
PRODID:-//ChamberMaster//Event Calendar 2.0//EN
METHOD:PUBLISH
X-PUBLISHED-TTL:P3D
REFRESH-INTERVAL:P3D
CALSCALE:GREGORIAN
BEGIN:VEVENT
DTSTART:20111129T193000Z
DTEND:20111129T200000Z
X-MICROSOFT-CDO-ALLDAYEVENT:FALSE
SUMMARY:Groundbreaking Ceremony
DESCRIPTION:Zimmerman Honda will break ground on a new $8 million dealership on the southeast corner of 70th St. and John Deere Rd. in Moline (just west of John Deere’s International Headquarters) The new state-of-the-art facility will have an 8 car showroom\, and a second floor for offices and meeting rooms.   The Service Department will have 27 service bays\, including 3 bays for express oil change service.  The available space for stocking parts will double.  A car wash used for all service vehicles will also be made available to the public. The press release is attached.
X-ALT-DESC;FMTTYPE=text/html:<DIV><FONT face=Calibri><P style="MARGIN: 0in 0in 0pt" class=MsoNormal>Zimmerman Honda will break ground on a new $8 million dealership on the southeast corner of 70<SUP>th</SUP> St. and John Deere Rd. in Moline (just west of John Deere’s International Headquarters)</P><P style="MARGIN: 0in 0in 0pt" class=MsoNormal><?xml:namespace prefix = o ns = "urn:schemas-microsoft-com:office:office" /><o:p>&nbsp\;</o:p></P><P style="MARGIN: 0in 0in 0pt" class=MsoNormal>The new state-of-the-art facility will have an 8 car showroom\, and a second floor for offices and meeting rooms.<SPAN style="mso-spacerun: yes">&nbsp\; </SPAN></P><P style="MARGIN: 0in 0in 0pt" class=MsoNormal><o:p>&nbsp\;</o:p></P><P style="MARGIN: 0in 0in 0pt" class=MsoNormal>The Service Department will have 27 service bays\, including 3 bays for express oil change service.<SPAN style="mso-spacerun: yes">&nbsp\; </SPAN>The available space for stocking parts will double.<SPAN style="mso-spacerun: yes">&nbsp\; </SPAN>A car wash used for all service vehicles will also be made available to the public.</P><P style="MARGIN: 0in 0in 0pt" class=MsoNormal><o:p>&nbsp\;</o:p></P><P style="MARGIN: 0in 0in 0pt" class=MsoNormal>The press release is attached.</P><P style="MARGIN: 0in 0in 0pt" class=MsoNormal><o:p>&nbsp\;</o:p></P><P style="MARGIN: 0in 0in 0pt" class=MsoNormal><SPAN style="FONT-FAMILY: 'Calibri'\,'sans-serif'\; FONT-SIZE: 11pt\; mso-fareast-font-family: 'Times New Roman'\; mso-bidi-font-family: 'Times New Roman'\; mso-ansi-language: EN-US\; mso-fareast-language: EN-US\; mso-bidi-language: AR-SA"><?xml:namespace prefix = v ns = "urn:schemas-microsoft-com:vml" /><v:shapetype id=_x0000_t75 stroked="f" filled="f" path="m@4@5l@4@11@9@11@9@5xe" o:preferrelative="t" o:spt="75" coordsize="21600\,21600"><v:stroke joinstyle="miter"></v:stroke><v:formulas><v:f eqn="if lineDrawn pixelLineWidth 0"></v:f><v:f eqn="sum @0 1 0"></v:f><v:f eqn="sum 0 0 @1"></v:f><v:f eqn="prod @2 1 2"></v:f><v:f eqn="prod @3 21600 pixelWidth"></v:f><v:f eqn="prod @3 21600 pixelHeight"></v:f><v:f eqn="sum @0 0 1"></v:f><v:f eqn="prod @6 1 2"></v:f><v:f eqn="prod @7 21600 pixelWidth"></v:f><v:f eqn="sum @8 21600 0"></v:f><v:f eqn="prod @7 21600 pixelHeight"></v:f><v:f eqn="sum @10 21600 0"></v:f></v:formulas><v:path o:connecttype="rect" gradientshapeok="t" o:extrusionok="f"></v:path><o:lock aspectratio="t" v:ext="edit"></o:lock></v:shapetype><v:shape style="WIDTH: 1in\; HEIGHT: 56.25pt" id=_x0000_i1025 o:ole="" type="#_x0000_t75"><v:imagedata o:title="" src="file:///C:\\DOCUME~1\\anagle\\LOCALS~1\\Temp\\msohtmlclip1\\01\\clip_image001.wmz"></v:imagedata></v:shape></SPAN></FONT></P></DIV>
LOCATION:Zimmerman HondaSoutheast Corner of 70th & John Deere Road Moline\, IL 61265
UID:e.2843.309
SEQUENCE:3
DTSTAMP:20260422T110844Z
URL:https://member.quadcitieschamber.com/events/details/groundbreaking-ceremony-11-29-2011-309
END:VEVENT

END:VCALENDAR
