BEGIN:VCALENDAR
VERSION:2.0
PRODID:-//ChamberMaster//Event Calendar 2.0//EN
METHOD:PUBLISH
X-PUBLISHED-TTL:P3D
REFRESH-INTERVAL:P3D
CALSCALE:GREGORIAN
BEGIN:VEVENT
DTSTART:20190716T133000Z
DTEND:20190716T140000Z
X-MICROSOFT-CDO-ALLDAYEVENT:FALSE
SUMMARY:Groundbreaking Ceremony - First Midwest Bank
DESCRIPTION:First Midwest Bank will host a groundbreaking ceremony on Tuesday\, July 16th at 8:30 am. This new branch will be located next to Portillo's and in the same shopping complex as Costco.
X-ALT-DESC;FMTTYPE=text/html:<br />\nFirst Midwest Bank will host a groundbreaking ceremony on Tuesday\, July 16<sup>th</sup> at 8:30 am. This new branch will be located next to Portillo&rsquo\;s and in the same shopping complex as Costco.
LOCATION:2801 E. 53rd Street Davenport\, IA 52807
UID:e.2843.15454
SEQUENCE:3
DTSTAMP:20260422T113508Z
URL:https://member.quadcitieschamber.com/events/details/groundbreaking-ceremony-first-midwest-bank-15454
END:VEVENT

END:VCALENDAR
