BEGIN:VCALENDAR
VERSION:2.0
PRODID:-//ChamberMaster//Event Calendar 2.0//EN
METHOD:PUBLISH
X-PUBLISHED-TTL:P3D
REFRESH-INTERVAL:P3D
CALSCALE:GREGORIAN
BEGIN:VEVENT
DTSTART:20180412T210000Z
DTEND:20180412T220000Z
X-MICROSOFT-CDO-ALLDAYEVENT:FALSE
SUMMARY:Groundbreaking - Eagle View Behavioral Health Hospital
DESCRIPTION:Eagle View Behavioral Health Hospital will officially begin construction of its hospital in Iowa at a groundbreaking ceremony on April 12\, 2018 at 4 p.m.  Eagle View Behavioral Health a 72-bed\, acute behavioral health hospital will offer mental health and substance abuse programs for seniors\, adults\, children and adolescents both locally and statewide.\n\n \n\nIowa Governor Kim Reynolds and Lt. Governor Adam Greg are expected to speak at the ceremony at 770 Tanglefoot Lane in Bettendorf. The event is open to the public and will highlight the valued services and benefits the state-of-the-art hospital will bring to the region\, including 200 new jobs.\n\n \n\n"Our team has recognized the need for inpatient and outpatient behavioral health and addiction services in Bettendorf and its surrounding communities\," said Jim Shaheen\, Founder and President of SBH.  "We are excited to be a part of the Eastern Iowa community and are committed to providing the highest quality of services."\n\n \n\n"Bettendorf is happy with the SBH announcement that they are opening a new inpatient facility in the Quad Cities.  We are excited to have another great provider of much needed mental health services in our area.  SBH's new facility will offer treatment to those in our community that desperately need the type of service Eagle View Behavioral Health can provide."  Bob Gallagher\, City of Bettendorf Mayor\, said.\n\n\n\nThe Eagle View Behavioral Health Team will include psychiatrists\, psychologists\, therapists and nurses with compassion who will serve individuals struggling with feelings of depression\, anxiety\, grief/loss\, addiction and personal crisis situations.\n\n  \n\nQUICK FACTS\n\n	New hospital blueprint: 54\,586 square feet\, one level\, 72 beds\, five units\, two courtyards\, two classrooms\, on-site pharmacy\, private ambulance entrance\, on-site outpatient suites\n	Approximate $15 million new hospital investment\n\n Additional Information can also be found at www.eagleviewbh.com or www.strategicbh.com
X-ALT-DESC;FMTTYPE=text/html:<span style="font-size:14px\;"><span style="font-family:arial\;"><strong>Eagle View Behavioral Health Hospital</strong> will officially begin construction of its hospital in Iowa at a groundbreaking ceremony on <strong>April 12\, 2018 at 4 p.m.</strong>&nbsp\; Eagle View Behavioral Health&mdash\;a 72-bed\, acute behavioral health hospital&mdash\;will offer mental health and substance abuse programs for seniors\, adults\, children and adolescents both locally and statewide.<br />\n&nbsp\;<br />\nIowa Governor Kim Reynolds and Lt. Governor Adam Greg are expected to speak at the ceremony <strong>at 770 Tanglefoot&nbsp\;Lane in Bettendorf.</strong> The event is open to the public and will highlight the valued services and benefits the state-of-the-art hospital will bring to the region\, including 200 new jobs.<br />\n&nbsp\;<br />\n&ldquo\;Our team has recognized the need for inpatient and outpatient behavioral health and addiction services in Bettendorf and its surrounding communities\,&rdquo\; said Jim Shaheen\, Founder and President of SBH.&nbsp\; &ldquo\;We are excited to be a part of the Eastern Iowa community and are committed to providing the highest quality of services.&rdquo\;<br />\n&nbsp\;<br />\n&quot\;Bettendorf is happy with the SBH announcement that they are opening a new inpatient facility in the Quad Cities.&nbsp\; We are excited to have another great provider of much needed mental health services in our area.&nbsp\; SBH&rsquo\;s new facility will offer treatment to those in our community that desperately need the type of service Eagle View Behavioral Health can provide.&rdquo\;&nbsp\; Bob Gallagher\, City of Bettendorf Mayor\, said.<br />\n<br />\nThe Eagle View Behavioral Health Team will include psychiatrists\, psychologists\, therapists and nurses with compassion who will serve individuals struggling with feelings of depression\, anxiety\, grief/loss\, addiction and personal crisis situations.<br />\n&nbsp\;&nbsp\;<br />\n<strong>QUICK FACTS</strong></span></span>\n<ul>\n	<li><span style="font-size:14px\;"><span style="font-family:arial\;">New hospital blueprint: 54\,586 square feet\, one level\, 72 beds\, five units\, two courtyards\, two classrooms\, on-site pharmacy\, private ambulance entrance\, on-site outpatient suites</span></span></li>\n	<li><span style="font-size:14px\;"><span style="font-family:arial\;">Approximate $15 million new hospital investment</span></span></li>\n</ul>\n<span style="font-size:14px\;"><span style="font-family:arial\;"> <em>Additional Information can also be found at </em><a href="http://www.eagleviewbh.com">www.eagleviewbh.com</a><em> or </em><a href="http://www.strategicbh.com"><em>www.strategicbh.com</em></a></span></span><br />\n&nbsp\;
LOCATION:Eagle View Behavioral Health Hospital 770 Tanglefoot Lane Bettendorf\, I A52722
UID:e.2843.12110
SEQUENCE:3
DTSTAMP:20260423T123012Z
URL:https://member.quadcitieschamber.com/events/details/groundbreaking-eagle-view-behavioral-health-hospital-12110
END:VEVENT

END:VCALENDAR
