BEGIN:VCALENDAR
VERSION:2.0
PRODID:-//ChamberMaster//Event Calendar 2.0//EN
METHOD:PUBLISH
X-PUBLISHED-TTL:P3D
REFRESH-INTERVAL:P3D
CALSCALE:GREGORIAN
BEGIN:VEVENT
DTSTART:20171025T153000Z
DTEND:20171025T160000Z
X-MICROSOFT-CDO-ALLDAYEVENT:FALSE
SUMMARY:Groundbreaking - Gordon-Van Tine Lofts (Y&J Properties)
DESCRIPTION:Y&J Properties will host a groundbreaking ceremony on Wednesday\, October 25 at 10:30am to mark the start of the construction of Gordon-Van Tine Lofts\, 113 new market rate apartments in Davenport. Amenities include visitor/guest suites\, a dog park\, and a rooftop swimming pool with amazing views of the Mississippi River. Isobel Bloom is the "anchor tenant" and there are several existing commercial tenants with more commercial space being developed.\n\n \n\nShive-Hattery is the architect and Estes Construction is the construction manager for the Van Tine Lofts project.
X-ALT-DESC;FMTTYPE=text/html:<span style="font-size:14px\;"><span style="font-family:arial\;">Y&amp\;J Properties will host a groundbreaking ceremony on Wednesday\, October 25 at 10:30am to mark the start of the <span style="color:black\;">construction of Gordon-Van Tine Lofts\, </span>113 new market rate apartments in Davenport. Amenities include visitor/guest suites\, a dog park\, and a rooftop swimming pool with amazing views of the Mississippi River. Isobel Bloom is the &quot\;anchor tenant&quot\; and there are several existing commercial tenants with more commercial space being developed.<br />\n&nbsp\;<br />\nShive-Hattery is the architect and Estes Construction is the construction manager for the Van Tine Lofts project.</span></span>
LOCATION:Near the intersection of River Drive and Federal Streets in Davenport
UID:e.2843.8608
SEQUENCE:3
DTSTAMP:20260423T210526Z
URL:https://member.quadcitieschamber.com/events/details/groundbreaking-gordon-van-tine-lofts-y-j-properties-8608
END:VEVENT

END:VCALENDAR
