BEGIN:VCALENDAR
VERSION:2.0
PRODID:-//ChamberMaster//Event Calendar 2.0//EN
METHOD:PUBLISH
X-PUBLISHED-TTL:P3D
REFRESH-INTERVAL:P3D
CALSCALE:GREGORIAN
BEGIN:VEVENT
DTSTART:20180717T143000Z
DTEND:20180717T150000Z
X-MICROSOFT-CDO-ALLDAYEVENT:FALSE
SUMMARY:Groundbreaking - Home2 Suites by Hilton Bettendorf Quad Cities
DESCRIPTION:Frontier Hospitality Group will host a groundbreaking ceremony on Tuesday\, July 17 at 9:30am to mark the start of the construction of a new hotel\, Home 2 Suites by Hilton Bettendorf Quad Cities. \n\nThe site is located at 900 Spruce Hills Dr. Bettendorf\, IA 52722 (Old Lodge Hotel site). \n\nParking is onsite\, enter off of Utica Ridge Rd.
X-ALT-DESC;FMTTYPE=text/html:<span style="font-family:arial\,sans-serif\;">Frontier Hospitality Group will host a groundbreaking ceremony on Tuesday\, July 17 at 9:30am to mark the start of the <span style="color:black\;">construction of a new hotel\, Home 2 Suites by Hilton Bettendorf Quad Cities. </span></span><br />\n<span style="color:black\;"><span style="font-family:arial\,sans-serif\;">The site is located at 900 Spruce Hills Dr. Bettendorf\, IA 52722 (Old Lodge Hotel site). </span></span><br />\n<span style="color:black\;"><span style="font-family:arial\,sans-serif\;">Parking is onsite\, enter off of Utica Ridge Rd.&nbsp\; </span></span>
LOCATION:900 Spruce Hills Dr. Bettendorf\, IA 52722 (Old Lodge Hotel site).
UID:e.2843.13343
SEQUENCE:3
DTSTAMP:20260423T075338Z
URL:https://member.quadcitieschamber.com/events/details/groundbreaking-home2-suites-by-hilton-bettendorf-quad-cities-13343
END:VEVENT

END:VCALENDAR
