BEGIN:VCALENDAR
VERSION:2.0
PRODID:-//ChamberMaster//Event Calendar 2.0//EN
METHOD:PUBLISH
X-PUBLISHED-TTL:P3D
REFRESH-INTERVAL:P3D
CALSCALE:GREGORIAN
BEGIN:VEVENT
DTSTART:20250820T150000Z
DTEND:20250820T160000Z
X-MICROSOFT-CDO-ALLDAYEVENT:FALSE
SUMMARY:Groundbreaking - YMCA of the Iowa Mississippi Valley - LeClaire\, IA
DESCRIPTION:The YMCA of the Iowa Mississippi Valley will hold a groundbreaking on Wednesday\, August 20\, 2025 at 10:00 AM for their LeClaire YMCA Project.  The groundbreaking will be located on Eagle Ridge Rd near Welcome Center Dr in LeClaire\, IA.\n\n \n\nThe YMCA of the Iowa Mississippi Valley has announced plans to construct a state-of-the-art fitness facility in LeClaire.\nThe nearly $18 million project\, funded jointly by the City of LeClaire and the YMCA\, aims to meet a growing demand for fitness and recreational services in this part of the Quad Cities.  Pool\, basketball court\, river views planned for new LeClaire YMCA\nThe facility will offer a wide range of amenities\, including:\n\n\n	Aquatics area with a lap pool and group water exercise space\n	Full-court basketball gym\n	Weight room with brand-new equipment\n	Walking/running track spanning the second floor\n	Group exercise area\n	Cardio space overlooking the Mississippi River\n	EGYM\, a popular smart training system\n\n"The City of LeClaire has done a number of surveys over the last few years asking residents what their priorities are for recreational amenities. The top answer is consistently a need for a new recreation facility\, including a pool. The Y is the perfect solution and perfect partner for the City. The Y is known as a place that builds strong bodies\, strong minds\, and strong communities\," LeClaire Mayor Dennis Gerard said in a press release. "We're excited to get started with this project\, bringing quality fitness and recreation to the residents of our city and beyond."\n\nWork on the new LeClaire YMCA is set to begin in summer 2025\, with an expected opening in November 2026.\n\n \n\nFor more information\, please visit YMCA of the Iowa Mississippi Valley
X-ALT-DESC;FMTTYPE=text/html:<span style="font-family:arial\,sans-serif\;">The YMCA of the Iowa Mississippi Valley will hold a groundbreaking on Wednesday\, August 20\, 2025 at 10:00 AM for their LeClaire YMCA Project.&nbsp\; The groundbreaking will be located on Eagle Ridge Rd near Welcome Center Dr in LeClaire\, IA.</span><br />\n&nbsp\;<br />\n<span style="color:black\;"><span style="font-family:arial\,sans-serif\;">The YMCA of the Iowa Mississippi Valley has announced plans to construct a state-of-the-art fitness facility in LeClaire.</span></span>\n<h3 style="background:white\;"><span style="color:black\;"><span style="font-family:arial\,sans-serif\;"><span style="font-size:12.0pt\;">The nearly $18 million project\, funded jointly by the City of LeClaire and the YMCA\, aims to meet a growing demand for fitness and recreational services in this part of the Quad Cities.&nbsp\; </span></span></span><strong><span style="color:black\;"><span style="font-family:arial\,sans-serif\;"><span style="font-size:12.0pt\;">Pool\, basketball court\, river views planned for new LeClaire YMCA</span></span></span></strong></h3>\n<span style="color:black\;"><span style="font-family:arial\,sans-serif\;">The facility will offer a wide range of amenities\, including:</span></span>\n\n<ul>\n	<li style="color:black\;background:white\;"><span style="font-family:arial\,sans-serif\;">Aquatics area with a lap pool and group water exercise space</span></li>\n	<li style="color:black\;background:white\;"><span style="font-family:arial\,sans-serif\;">Full-court basketball gym</span></li>\n	<li style="color:black\;background:white\;"><span style="font-family:arial\,sans-serif\;">Weight room with brand-new equipment</span></li>\n	<li style="color:black\;background:white\;"><span style="font-family:arial\,sans-serif\;">Walking/running track spanning the second floor</span></li>\n	<li style="color:black\;background:white\;"><span style="font-family:arial\,sans-serif\;">Group exercise area</span></li>\n	<li style="color:black\;background:white\;"><span style="font-family:arial\,sans-serif\;">Cardio space overlooking the Mississippi River</span></li>\n	<li style="color:black\;background:white\;"><span style="font-family:arial\,sans-serif\;">EGYM\, a popular smart training system</span></li>\n</ul>\n<span style="color:black\;"><span style="font-family:arial\,sans-serif\;">&ldquo\;The City of LeClaire has done a number of surveys over the last few years asking residents what their priorities are for recreational amenities. The top answer is consistently a need for a new recreation facility\, including a pool. The Y is the perfect solution and perfect partner for the City. The Y is known as a place that builds strong bodies\, strong minds\, and strong communities\,&rdquo\; LeClaire Mayor Dennis Gerard said in a press release. &ldquo\;We&rsquo\;re excited to get started with this project\, bringing quality fitness and recreation to the residents of our city and beyond.&rdquo\;</span></span><br />\n<span style="color:black\;"><span style="font-family:arial\,sans-serif\;">Work on the new LeClaire YMCA is set to begin in summer 2025\, with an expected opening in November 2026.</span></span><br />\n&nbsp\;<br />\n<span style="font-family:arial\,sans-serif\;">For more information\, please visit <a href="https://member.quadcitieschamber.com/list/Member/ymca-of-the-iowa-mississippi-valley-6773">YMCA of the Iowa Mississippi Valley</a></span><br />\n&nbsp\;<br />\n&nbsp\;<br />\n&nbsp\;<br />\n&nbsp\;<br />\n&nbsp\;
LOCATION:YMCA of the Iowa Mississippi Valley - LeClaire 905 Eagle Ridge Rd LeClaire\, IA 52753
UID:e.2843.24279
SEQUENCE:3
DTSTAMP:20260425T032509Z
URL:https://member.quadcitieschamber.com/events/details/groundbreaking-ymca-of-the-iowa-mississippi-valley-leclaire-ia-24279
END:VEVENT

END:VCALENDAR
