BEGIN:VCALENDAR
VERSION:2.0
PRODID:-//ChamberMaster//Event Calendar 2.0//EN
METHOD:PUBLISH
X-PUBLISHED-TTL:P3D
REFRESH-INTERVAL:P3D
CALSCALE:GREGORIAN
BEGIN:VEVENT
DTSTART;VALUE=DATE:20190402
DTEND;VALUE=DATE:20190403
TRANSP:TRANSPARENT
X-MICROSOFT-CDO-ALLDAYEVENT:TRUE
SUMMARY:Growing Your Business: From Credit to Contracts
DESCRIPTION:Do you want your small business to take the next steps\, but you're not sure where to start? On Tuesday\, April 2\, we're covering the basics for growing your business. Receive your growth checklist and understand some of the first financial steps to take before planning your next move. Learn what banks are looking for when applying for more credit. Find out what your business should consider legally before scaling up.\n\n \n\nYou're a busy business owner. Start your day with a one-hour session on growing your business!\n\n \n\n7:30 a.m. Networking with light breakfast\n\n8:00 a.m. Program Begins\n\n9:00 a.m. Back to Work\n\n \n\nQuestions? Contact Maura Warner at 563.200.9000 or mwarner@totalsolutionsus.com.\n\n \n\nBrought to you by the experts at:\n\nTotal Solutions\n\nQuad City Bank & Trust\n\nLane & Waterman
X-ALT-DESC;FMTTYPE=text/html:<span style="font-family:arial\,helvetica\,sans-serif"><span style="font-size:14px">Do you want your small business to take the next steps\, but you&rsquo\;re not sure where to start? On Tuesday\, April 2\, we&rsquo\;re covering the basics for growing your business. Receive your growth checklist and understand some of the first financial steps to take before planning your next move. Learn what banks are looking for when applying for more credit. Find out what your business should consider legally before scaling up.<br />\n&nbsp\;<br />\nYou&rsquo\;re a busy business owner. Start your day with a one-hour session on growing your business!<br />\n&nbsp\;<br />\n7:30 a.m. Networking with light breakfast<br />\n8:00 a.m. Program Begins<br />\n9:00 a.m. Back to Work<br />\n&nbsp\;<br />\nQuestions? Contact Maura Warner at 563.200.9000 or <a href="mailto:mwarner@totalsolutionsus.com">mwarner@totalsolutionsus.com</a>.<br />\n&nbsp\;<br />\nBrought to you by the experts at:<br />\nTotal Solutions<br />\nQuad City Bank &amp\; Trust<br />\nLane &amp\; Waterman</span></span>
LOCATION:Quad City Bank & Trust Community Room 1700 Division Street\, Davenport\, IA 52804
UID:e.2843.13830
SEQUENCE:3
DTSTAMP:20260422T164159Z
URL:https://member.quadcitieschamber.com/events/details/growing-your-business-from-credit-to-contracts-13830
END:VEVENT

END:VCALENDAR
