BEGIN:VCALENDAR
VERSION:2.0
PRODID:-//ChamberMaster//Event Calendar 2.0//EN
METHOD:PUBLISH
X-PUBLISHED-TTL:P3D
REFRESH-INTERVAL:P3D
CALSCALE:GREGORIAN
BEGIN:VEVENT
DTSTART;VALUE=DATE:20190426
DTEND;VALUE=DATE:20190427
TRANSP:TRANSPARENT
X-MICROSOFT-CDO-ALLDAYEVENT:TRUE
SUMMARY:Growing Your Business: Next Steps for Success
DESCRIPTION:You know you're ready to scale your business. Now what? On Friday\, April 26\, we're covering the next steps after you have decided to grow your business. Learn how to prepare your financials and really make sure you're ready to expand. With end of year planning and rates rising\, find out what to expect based on your timeline for increasing investments in your business.\n\n \n\nYou're a busy business owner. Start your day with a one-hour session on growing your business!\n\n \n\n7:30 a.m. Networking with light breakfast\n\n8:00 a.m. Program Begins\n\n9:00 a.m. Back to Work\n\n \n\nQuestions? Contact Maura Warner at 563.200.9000 or mwarner@totalsolutionsus.com.\n\n \n\nBrought to you by the experts at:\n\nTotal Solutions\n\nIH Mississippi Valley Credit Union\n\nEastern Iowa Community Colleges\n\nIowa Small Business Development Center
X-ALT-DESC;FMTTYPE=text/html:<span style="font-size:14px"><span style="font-family:arial\,helvetica\,sans-serif">You know you&rsquo\;re ready to scale your business. Now what? On Friday\, April 26\, we&rsquo\;re covering the next steps after you have decided to grow your business. Learn how to prepare your financials and really make sure you&rsquo\;re ready to expand. With end of year planning and rates rising\, find out what to expect based on your timeline for increasing investments in your business.<br />\n&nbsp\;<br />\nYou&rsquo\;re a busy business owner. Start your day with a one-hour session on growing your business!<br />\n&nbsp\;<br />\n7:30 a.m. Networking with light breakfast<br />\n8:00 a.m. Program Begins<br />\n9:00 a.m. Back to Work<br />\n&nbsp\;<br />\nQuestions? Contact Maura Warner at 563.200.9000 or <a href="mailto:mwarner@totalsolutionsus.com">mwarner@totalsolutionsus.com</a>.<br />\n&nbsp\;<br />\nBrought to you by the experts at:<br />\nTotal Solutions<br />\nIH Mississippi Valley Credit Union<br />\nEastern Iowa Community Colleges<br />\nIowa Small Business Development Center</span></span>
LOCATION:101 W. 3rd St. Davenport\, IA 52801 Urban Campus\, Room 116/117
UID:e.2843.13831
SEQUENCE:3
DTSTAMP:20260422T181527Z
URL:https://member.quadcitieschamber.com/events/details/growing-your-business-next-steps-for-success-13831
END:VEVENT

END:VCALENDAR
