BEGIN:VCALENDAR
VERSION:2.0
PRODID:-//ChamberMaster//Event Calendar 2.0//EN
METHOD:PUBLISH
X-PUBLISHED-TTL:P3D
REFRESH-INTERVAL:P3D
CALSCALE:GREGORIAN
BEGIN:VEVENT
DTSTART:20120918T200000Z
DTEND:20120918T203000Z
X-MICROSOFT-CDO-ALLDAYEVENT:FALSE
SUMMARY:Habitat for Humanity Quad Cities Ribbon Cutting
DESCRIPTION:Please help celebrate the expansion at the Habitat for Humanity Quad Cities on Tuesday\, September 18\, 2012 at 3:00pm.  Located at 3625 Mississippi Avenue in Davenport – east side of Dahl Ford\, just off Kimberly Rd ABOUT HFHI·         Habitat for Humanity International (HFHI) is a non-profit Christian housing organization founded in 1976·         HFHI is at work in 100 countries·         A Habitat house is built every 22 minutes·         Habitat homes shelter more than 1.5million people ABOUT HFHQC·         Since 1993\, HFHQC has built 75 homes\, providing shelter for 306 individuals·         HFHQC will complete 5-6 houses in 2012·         HFHQC is powered by more than 3\,000 volunteers and donations from individuals\, business\, foundations\, organizations\, and faith communities·         Milestones include:  a 24-hour build for paralyzed high school football player Travis Hearn\, the 50th house which was built and funded by 50 churches\, and the construction of the affiliate’s 1st housing community – Habitat Park in Rock Island HOW YOU CAN HELP·         Swing a hammer.  Skilled and unskilled volunteers are welcome!·         Serve on a committee.  There’s a place for every talent or interest.·         Donate.  Contribute by mail or online at www.habitatqc.org and share the mission.·         Work\, donate or shop at the ReStore.  Visit www.restoreqc.org or call 563-391-4949
X-ALT-DESC;FMTTYPE=text/html:<DIV><P style="MARGIN: 0in 0in 0pt" class=MsoNormal><FONT face=Calibri>Please help celebrate the expansion at the Habitat for Humanity Quad Cities on Tuesday\, September 18\, 2012 at 3:00pm.<SPAN style="mso-spacerun: yes">&nbsp\; </SPAN>Located at 3625 Mississippi Avenue in Davenport – east side of Dahl Ford\, just off Kimberly Rd</FONT></P><P style="MARGIN: 0in 0in 0pt" class=MsoNormal><?xml:namespace prefix = o ns = "urn:schemas-microsoft-com:office:office" /><o:p><FONT face=Calibri>&nbsp\;</FONT></o:p></P><P style="MARGIN: 0in 0in 0pt" class=MsoNormal><FONT face=Calibri>ABOUT HFHI</FONT></P><P style="TEXT-INDENT: -0.25in\; MARGIN: 0in 0in 0pt 0.5in\; mso-list: l0 level1 lfo1" class=MsoListParagraph><SPAN style="FONT-FAMILY: Symbol\; mso-fareast-font-family: Symbol\; mso-bidi-font-family: Symbol"><SPAN style="mso-list: Ignore">·<SPAN style="FONT: 7pt 'Times New Roman'">&nbsp\;&nbsp\;&nbsp\;&nbsp\;&nbsp\;&nbsp\;&nbsp\;&nbsp\; </SPAN></SPAN></SPAN><FONT face=Calibri>Habitat for Humanity International (HFHI) is a non-profit Christian housing organization founded in 1976</FONT></P><P style="TEXT-INDENT: -0.25in\; MARGIN: 0in 0in 0pt 0.5in\; mso-list: l0 level1 lfo1" class=MsoListParagraph><SPAN style="FONT-FAMILY: Symbol\; mso-fareast-font-family: Symbol\; mso-bidi-font-family: Symbol"><SPAN style="mso-list: Ignore">·<SPAN style="FONT: 7pt 'Times New Roman'">&nbsp\;&nbsp\;&nbsp\;&nbsp\;&nbsp\;&nbsp\;&nbsp\;&nbsp\; </SPAN></SPAN></SPAN><FONT face=Calibri>HFHI is at work in 100 countries</FONT></P><P style="TEXT-INDENT: -0.25in\; MARGIN: 0in 0in 0pt 0.5in\; mso-list: l0 level1 lfo1" class=MsoListParagraph><SPAN style="FONT-FAMILY: Symbol\; mso-fareast-font-family: Symbol\; mso-bidi-font-family: Symbol"><SPAN style="mso-list: Ignore">·<SPAN style="FONT: 7pt 'Times New Roman'">&nbsp\;&nbsp\;&nbsp\;&nbsp\;&nbsp\;&nbsp\;&nbsp\;&nbsp\; </SPAN></SPAN></SPAN><FONT face=Calibri>A Habitat house is built every 22 minutes</FONT></P><P style="TEXT-INDENT: -0.25in\; MARGIN: 0in 0in 0pt 0.5in\; mso-list: l0 level1 lfo1" class=MsoListParagraph><SPAN style="FONT-FAMILY: Symbol\; mso-fareast-font-family: Symbol\; mso-bidi-font-family: Symbol"><SPAN style="mso-list: Ignore">·<SPAN style="FONT: 7pt 'Times New Roman'">&nbsp\;&nbsp\;&nbsp\;&nbsp\;&nbsp\;&nbsp\;&nbsp\;&nbsp\; </SPAN></SPAN></SPAN><FONT face=Calibri>Habitat homes shelter more than 1.5million people</FONT></P><P style="MARGIN: 0in 0in 0pt" class=MsoNormal><o:p><FONT face=Calibri>&nbsp\;</FONT></o:p></P><P style="MARGIN: 0in 0in 0pt" class=MsoNormal><FONT face=Calibri>ABOUT HFHQC</FONT></P><P style="TEXT-INDENT: -0.25in\; MARGIN: 0in 0in 0pt 0.5in\; mso-list: l0 level1 lfo1" class=MsoListParagraph><SPAN style="FONT-FAMILY: Symbol\; mso-fareast-font-family: Symbol\; mso-bidi-font-family: Symbol"><SPAN style="mso-list: Ignore">·<SPAN style="FONT: 7pt 'Times New Roman'">&nbsp\;&nbsp\;&nbsp\;&nbsp\;&nbsp\;&nbsp\;&nbsp\;&nbsp\; </SPAN></SPAN></SPAN><FONT face=Calibri>Since 1993\, HFHQC has built 75 homes\, providing shelter for 306 individuals</FONT></P><P style="TEXT-INDENT: -0.25in\; MARGIN: 0in 0in 0pt 0.5in\; mso-list: l0 level1 lfo1" class=MsoListParagraph><SPAN style="FONT-FAMILY: Symbol\; mso-fareast-font-family: Symbol\; mso-bidi-font-family: Symbol"><SPAN style="mso-list: Ignore">·<SPAN style="FONT: 7pt 'Times New Roman'">&nbsp\;&nbsp\;&nbsp\;&nbsp\;&nbsp\;&nbsp\;&nbsp\;&nbsp\; </SPAN></SPAN></SPAN><FONT face=Calibri>HFHQC will complete 5-6 houses in 2012</FONT></P><P style="TEXT-INDENT: -0.25in\; MARGIN: 0in 0in 0pt 0.5in\; mso-list: l0 level1 lfo1" class=MsoListParagraph><SPAN style="FONT-FAMILY: Symbol\; mso-fareast-font-family: Symbol\; mso-bidi-font-family: Symbol"><SPAN style="mso-list: Ignore">·<SPAN style="FONT: 7pt 'Times New Roman'">&nbsp\;&nbsp\;&nbsp\;&nbsp\;&nbsp\;&nbsp\;&nbsp\;&nbsp\; </SPAN></SPAN></SPAN><FONT face=Calibri>HFHQC is powered by more than 3\,000 volunteers and donations from individuals\, business\, foundations\, organizations\, and faith communities</FONT></P><P style="TEXT-INDENT: -0.25in\; MARGIN: 0in 0in 0pt 0.5in\; mso-list: l0 level1 lfo1" class=MsoListParagraph><SPAN style="FONT-FAMILY: Symbol\; mso-fareast-font-family: Symbol\; mso-bidi-font-family: Symbol"><SPAN style="mso-list: Ignore">·<SPAN style="FONT: 7pt 'Times New Roman'">&nbsp\;&nbsp\;&nbsp\;&nbsp\;&nbsp\;&nbsp\;&nbsp\;&nbsp\; </SPAN></SPAN></SPAN><FONT face=Calibri>Milestones include:<SPAN style="mso-spacerun: yes">&nbsp\; </SPAN>a 24-hour build for paralyzed high school football player Travis Hearn\, the 50<SUP>th</SUP> house which was built and funded by 50 churches\, and the construction of the affiliate’s 1<SUP>st</SUP> housing community – Habitat Park in Rock Island</FONT></P><P style="MARGIN: 0in 0in 0pt" class=MsoNormal><o:p><FONT face=Calibri>&nbsp\;</FONT></o:p></P><P style="MARGIN: 0in 0in 0pt" class=MsoNormal><FONT face=Calibri>HOW YOU CAN HELP</FONT></P><P style="TEXT-INDENT: -0.25in\; MARGIN: 0in 0in 0pt 0.5in\; mso-list: l0 level1 lfo1" class=MsoListParagraph><SPAN style="FONT-FAMILY: Symbol\; mso-fareast-font-family: Symbol\; mso-bidi-font-family: Symbol"><SPAN style="mso-list: Ignore">·<SPAN style="FONT: 7pt 'Times New Roman'">&nbsp\;&nbsp\;&nbsp\;&nbsp\;&nbsp\;&nbsp\;&nbsp\;&nbsp\; </SPAN></SPAN></SPAN><FONT face=Calibri>Swing a hammer.<SPAN style="mso-spacerun: yes">&nbsp\; </SPAN>Skilled and unskilled volunteers are welcome!</FONT></P><P style="TEXT-INDENT: -0.25in\; MARGIN: 0in 0in 0pt 0.5in\; mso-list: l0 level1 lfo1" class=MsoListParagraph><SPAN style="FONT-FAMILY: Symbol\; mso-fareast-font-family: Symbol\; mso-bidi-font-family: Symbol"><SPAN style="mso-list: Ignore">·<SPAN style="FONT: 7pt 'Times New Roman'">&nbsp\;&nbsp\;&nbsp\;&nbsp\;&nbsp\;&nbsp\;&nbsp\;&nbsp\; </SPAN></SPAN></SPAN><FONT face=Calibri>Serve on a committee.<SPAN style="mso-spacerun: yes">&nbsp\; </SPAN>There’s a place for every talent or interest.</FONT></P><P style="TEXT-INDENT: -0.25in\; MARGIN: 0in 0in 0pt 0.5in\; mso-list: l0 level1 lfo1" class=MsoListParagraph><SPAN style="FONT-FAMILY: Symbol\; mso-fareast-font-family: Symbol\; mso-bidi-font-family: Symbol"><SPAN style="mso-list: Ignore">·<SPAN style="FONT: 7pt 'Times New Roman'">&nbsp\;&nbsp\;&nbsp\;&nbsp\;&nbsp\;&nbsp\;&nbsp\;&nbsp\; </SPAN></SPAN></SPAN><FONT face=Calibri>Donate.<SPAN style="mso-spacerun: yes">&nbsp\; </SPAN>Contribute by mail or online at </FONT><A href="http://www.habitatqc.org"><FONT face="Times New Roman">www.habitatqc.org</FONT></A><FONT face=Calibri> and share the mission.</FONT></P><P style="TEXT-INDENT: -0.25in\; MARGIN: 0in 0in 0pt 0.5in\; mso-list: l0 level1 lfo1" class=MsoListParagraph><SPAN style="FONT-FAMILY: Symbol\; mso-fareast-font-family: Symbol\; mso-bidi-font-family: Symbol"><SPAN style="mso-list: Ignore">·<SPAN style="FONT: 7pt 'Times New Roman'">&nbsp\;&nbsp\;&nbsp\;&nbsp\;&nbsp\;&nbsp\;&nbsp\;&nbsp\; </SPAN></SPAN></SPAN><FONT face=Calibri>Work\, donate or shop at the ReStore.<SPAN style="mso-spacerun: yes">&nbsp\; </SPAN>Visit </FONT><A href="http://www.restoreqc.org"><FONT face="Times New Roman">www.restoreqc.org</FONT></A><FONT face=Calibri> or call 563-391-4949</FONT></P></DIV>
LOCATION:Habitat ReStore3629 Mississippi Ave. Davenport\, IA 52807
UID:e.2843.422
SEQUENCE:3
DTSTAMP:20260421T201835Z
URL:https://member.quadcitieschamber.com/events/details/habitat-for-humanity-quad-cities-ribbon-cutting-09-18-2012-422
END:VEVENT

END:VCALENDAR
