BEGIN:VCALENDAR
VERSION:2.0
PRODID:-//ChamberMaster//Event Calendar 2.0//EN
METHOD:PUBLISH
X-PUBLISHED-TTL:P3D
REFRESH-INTERVAL:P3D
CALSCALE:GREGORIAN
BEGIN:VEVENT
DTSTART:20130110T173000Z
DTEND:20130110T180000Z
X-MICROSOFT-CDO-ALLDAYEVENT:FALSE
SUMMARY:Habitat ReStore 10th Anniversary Ribbon Cutting
DESCRIPTION:Please help the Habitat ReStore celebrate their 10th Anniversary with a ribbon cutting on Thursday\, January 10\, 2013 at 11:30am.  Located at 3629 Mississippi Avenue\, Suite B – just east of Dahl Ford\, north of Kimberly Rd. Habitat ReStore supports the work of Habitat for Humanity Quad Cities\; they have diverted more than 7.5 million pounds of building materials\, appliances and furniture from area landfills since opening nearly 10 years ago. ReStore accepts donations Monday – Saturday (shopping and donation hours on website) For more information\, please visit www.restoreqc.org
X-ALT-DESC;FMTTYPE=text/html:<P style="MARGIN: 0in 0in 0pt" class=MsoNormal><FONT face=Calibri>Please help the Habitat ReStore celebrate their 10<SUP>th</SUP> Anniversary with a ribbon cutting on Thursday\, January 10\, 2013 at 11:30am.<SPAN style="mso-spacerun: yes">&nbsp\; </SPAN>Located at 3629 Mississippi Avenue\, Suite B – just east of Dahl Ford\, north of Kimberly Rd.</FONT></P><P style="MARGIN: 0in 0in 0pt" class=MsoNormal><?xml:namespace prefix = o ns = "urn:schemas-microsoft-com:office:office" /><o:p><FONT face=Calibri>&nbsp\;</FONT></o:p></P><P style="MARGIN: 0in 0in 0pt" class=MsoNormal><FONT face=Calibri>Habitat ReStore supports the work of Habitat for Humanity Quad Cities\; they have diverted more than 7.5 million pounds of building materials\, appliances and furniture from area landfills since opening nearly 10 years ago.</FONT></P><P style="MARGIN: 0in 0in 0pt" class=MsoNormal><o:p><FONT face=Calibri>&nbsp\;</FONT></o:p></P><P style="MARGIN: 0in 0in 0pt" class=MsoNormal><FONT face=Calibri>ReStore accepts donations Monday – Saturday (shopping and donation hours on website)</FONT></P><P style="MARGIN: 0in 0in 0pt" class=MsoNormal><o:p><FONT face=Calibri>&nbsp\;</FONT></o:p></P><P style="MARGIN: 0in 0in 0pt" class=MsoNormal><FONT face=Calibri>For more information\, please visit </FONT><A href="http://www.restoreqc.org"><FONT face="Times New Roman">www.restoreqc.org</FONT></A></P><DIV>&nbsp\;</DIV>
LOCATION:Habitat ReStore3629 Mississippi Ave. Davenport\, IA 52807
UID:e.2843.483
SEQUENCE:3
DTSTAMP:20260421T121425Z
URL:https://member.quadcitieschamber.com/events/details/habitat-restore-10th-anniversary-ribbon-cutting-01-10-2013-483
END:VEVENT

END:VCALENDAR
